BEGIN:VCALENDAR
VERSION:2.0
PRODID:-//Rootead - ECPv6.15.20//NONSGML v1.0//EN
CALSCALE:GREGORIAN
METHOD:PUBLISH
X-WR-CALNAME:Rootead
X-ORIGINAL-URL:https://rootead.org
X-WR-CALDESC:Events for Rootead
REFRESH-INTERVAL;VALUE=DURATION:PT1H
X-Robots-Tag:noindex
X-PUBLISHED-TTL:PT1H
BEGIN:VTIMEZONE
TZID:UTC
BEGIN:STANDARD
TZOFFSETFROM:+0000
TZOFFSETTO:+0000
TZNAME:UTC
DTSTART:20220101T000000
END:STANDARD
END:VTIMEZONE
BEGIN:VEVENT
DTSTART;TZID=UTC:20231118T100000
DTEND;TZID=UTC:20231118T130000
DTSTAMP:20260426T032023
CREATED:20230817T164543Z
LAST-MODIFIED:20230817T174442Z
UID:10000095-1700301600-1700312400@rootead.org
SUMMARY:Rootead in Youth - Fall Session
DESCRIPTION:Rootead in Youth (RIY) is a program for children ages 2 – 12 years old that includes instruction on movement\, songs\, rhythms\, and storytelling centering on the African Diaspora. \nRIY Fall Session 2023 will be Saturdays: October 7\, October 14\, October 21\, October 28\, November 4\, November 18 \nThe schedule for each RIY Saturday is: \n10:00am – 10:30am: 2 – 3 year olds \n10:45am – 11:15am: 4 – 5 year olds \n11:30am – 12:00pm: 6 – 8 year olds \n12:15pm – 1:00pm:  9 – 12 year olds \nThe cost for this program is $65. Scholarships are available. REGISTER HERE \nPlease email will@rootead.org with any questions.
URL:https://rootead.org/event/rootead-in-youth-fall-session-nov18/
LOCATION:Rootead\, 505 E Kalamazoo Ave\, Suite 3\, Kalamazoo\, 49007
CATEGORIES:Home,Youth Enrichment
ATTACH;FMTTYPE=image/jpeg:https://rootead.org/wp-content/uploads/2023/08/RIY_Fall2023.jpg
END:VEVENT
END:VCALENDAR