BEGIN:VCALENDAR
VERSION:2.0
PRODID:-//Rootead - ECPv6.15.20//NONSGML v1.0//EN
CALSCALE:GREGORIAN
METHOD:PUBLISH
X-ORIGINAL-URL:https://rootead.org
X-WR-CALDESC:Events for Rootead
REFRESH-INTERVAL;VALUE=DURATION:PT1H
X-Robots-Tag:noindex
X-PUBLISHED-TTL:PT1H
BEGIN:VTIMEZONE
TZID:UTC
BEGIN:STANDARD
TZOFFSETFROM:+0000
TZOFFSETTO:+0000
TZNAME:UTC
DTSTART:20220101T000000
END:STANDARD
END:VTIMEZONE
BEGIN:VEVENT
DTSTART;TZID=UTC:20231212T180000
DTEND;TZID=UTC:20231212T190000
DTSTAMP:20260426T015742
CREATED:20231127T173821Z
LAST-MODIFIED:20240103T193016Z
UID:10000177-1702404000-1702407600@rootead.org
SUMMARY:Community Yoga
DESCRIPTION:Join us for our weekly Community Yoga! \n  \nBeginner-friendly yoga & movement. Everyone is welcome\, but these workshops will be intentional\, safe spaces for Black people and people of color. No special clothing or equipment required. We have yoga mats\, yoga blocks\, blankets\, and pillows for use. Please come as you are and deep breathe with us! \n  \nWhen: Tuesdays from 6pm – 7pm beginning October 3rd \nWhere: Rootead Studio \nCost: $10 / $5 with student ID / No one will be turned away \n 
URL:https://rootead.org/event/community-yoga-dec-12-2023/
LOCATION:Rootead\, 505 E Kalamazoo Ave\, Suite 3\, Kalamazoo\, 49007
CATEGORIES:Community Healing,Home
ATTACH;FMTTYPE=image/png:https://rootead.org/wp-content/uploads/2023/09/Rootead-Yoga-Sessions-2.png
END:VEVENT
END:VCALENDAR