BEGIN:VCALENDAR
VERSION:2.0
PRODID:-//Rootead - ECPv6.15.20//NONSGML v1.0//EN
CALSCALE:GREGORIAN
METHOD:PUBLISH
X-WR-CALNAME:Rootead
X-ORIGINAL-URL:https://rootead.org
X-WR-CALDESC:Events for Rootead
REFRESH-INTERVAL;VALUE=DURATION:PT1H
X-Robots-Tag:noindex
X-PUBLISHED-TTL:PT1H
BEGIN:VTIMEZONE
TZID:UTC
BEGIN:STANDARD
TZOFFSETFROM:+0000
TZOFFSETTO:+0000
TZNAME:UTC
DTSTART:20220101T000000
END:STANDARD
END:VTIMEZONE
BEGIN:VEVENT
DTSTART;TZID=UTC:20231223T100000
DTEND;TZID=UTC:20231223T120000
DTSTAMP:20260426T015748
CREATED:20231214T191759Z
LAST-MODIFIED:20240103T193152Z
UID:10000197-1703325600-1703332800@rootead.org
SUMMARY:Healing Circle - Holiday Grief
DESCRIPTION:Healing Circle: Holiday Grief\n  \nIf you are feeling\, low\, lonely\, or numb this holiday season\, we welcome you to our circle of healing. We will practice together some simple tools to help make space around your grief and continue to find joy and wonder in the world. Led by Rootead facilitators in our studio.\n  \nWhen: Saturday December 23rd\,  10 AM -noon \nWhere: Rootead Studio
URL:https://rootead.org/event/healing-circle-dec-2023/
LOCATION:Rootead\, 505 E Kalamazoo Ave\, Suite 3\, Kalamazoo\, 49007
CATEGORIES:Community Healing,Home
ATTACH;FMTTYPE=image/png:https://rootead.org/wp-content/uploads/2023/12/Rootead-Healing-Circle.png
END:VEVENT
END:VCALENDAR