BEGIN:VCALENDAR
VERSION:2.0
PRODID:-//Rootead - ECPv6.15.20//NONSGML v1.0//EN
CALSCALE:GREGORIAN
METHOD:PUBLISH
X-WR-CALNAME:Rootead
X-ORIGINAL-URL:https://rootead.org
X-WR-CALDESC:Events for Rootead
REFRESH-INTERVAL;VALUE=DURATION:PT1H
X-Robots-Tag:noindex
X-PUBLISHED-TTL:PT1H
BEGIN:VTIMEZONE
TZID:UTC
BEGIN:STANDARD
TZOFFSETFROM:+0000
TZOFFSETTO:+0000
TZNAME:UTC
DTSTART:20230101T000000
END:STANDARD
END:VTIMEZONE
BEGIN:VEVENT
DTSTART;TZID=UTC:20240118T110000
DTEND;TZID=UTC:20240118T115000
DTSTAMP:20260426T002047
CREATED:20240103T180608Z
LAST-MODIFIED:20240103T180608Z
UID:10000225-1705575600-1705578600@rootead.org
SUMMARY:Embodied Families
DESCRIPTION:Embodied Families kicks off Thursday mornings at 11 – 11:50 am in January! \nElements of yoga\, dance\, and tumbling are woven into classes designed to get the whole family moving! \nTransportation available for City of Kalamazoo residents with preregistration. Call our office at 269-720-9200 before 5 pm Wednesday to reserve a ride. \nCost: $10 / $5 with student ID (no one will be turned away) \n 
URL:https://rootead.org/event/embodied-families-jan-18-2024/
LOCATION:Rootead\, 505 E Kalamazoo Ave\, Suite 3\, Kalamazoo\, 49007
CATEGORIES:Birth Justice,Home
ATTACH;FMTTYPE=image/jpeg:https://rootead.org/wp-content/uploads/2024/01/Embodied-Families-2024-Flyer-FINAL-scaled.jpg
END:VEVENT
BEGIN:VEVENT
DTSTART;TZID=UTC:20240118T180000
DTEND;TZID=UTC:20240118T190000
DTSTAMP:20260426T002047
CREATED:20240103T194820Z
LAST-MODIFIED:20240312T181209Z
UID:10000234-1705600800-1705604400@rootead.org
SUMMARY:Every BODY Talks
DESCRIPTION:Join us for Every BODY Talks! \nThird Thursdays of every month (for Women & Femmes age 17+). \nEvery BODY Talks begins in January! This monthly healing group will facilitate discussions about understanding the language\, rhythms & changes of our bodies. \nEvery BODY Talks is a Community Healing program. These are healing groups that are facilitated by Rootead Staff: Vanessa Moon\, registered nurse and Birth Justice Director\, and CoCo Marie\, Community Healing Director. \nThursday\, January 18\, 6PM – 7PM\, we’ll be discussing menstruation. We hope you’ll join us for sharing\, support\, and community. \nREGISTER HERE
URL:https://rootead.org/event/every-body-talks-jan-18-2024/
LOCATION:Rootead\, 505 E Kalamazoo Ave\, Suite 3\, Kalamazoo\, 49007
CATEGORIES:Community Healing,Home
ATTACH;FMTTYPE=image/jpeg:https://rootead.org/wp-content/uploads/2024/01/everyBodytalks.jpg
END:VEVENT
END:VCALENDAR