BEGIN:VCALENDAR
VERSION:2.0
PRODID:-//Rootead - ECPv6.15.20//NONSGML v1.0//EN
CALSCALE:GREGORIAN
METHOD:PUBLISH
X-ORIGINAL-URL:https://rootead.org
X-WR-CALDESC:Events for Rootead
REFRESH-INTERVAL;VALUE=DURATION:PT1H
X-Robots-Tag:noindex
X-PUBLISHED-TTL:PT1H
BEGIN:VTIMEZONE
TZID:UTC
BEGIN:STANDARD
TZOFFSETFROM:+0000
TZOFFSETTO:+0000
TZNAME:UTC
DTSTART:20230101T000000
END:STANDARD
END:VTIMEZONE
BEGIN:VEVENT
DTSTART;TZID=UTC:20240125T110000
DTEND;TZID=UTC:20240125T115000
DTSTAMP:20260425T224139
CREATED:20240103T180801Z
LAST-MODIFIED:20240103T180801Z
UID:10000226-1706180400-1706183400@rootead.org
SUMMARY:Embodied Families
DESCRIPTION:Embodied Families kicks off Thursday mornings at 11 – 11:50 am in January! \nElements of yoga\, dance\, and tumbling are woven into classes designed to get the whole family moving! \nTransportation available for City of Kalamazoo residents with preregistration. Call our office at 269-720-9200 before 5 pm Wednesday to reserve a ride. \nCost: $10 / $5 with student ID (no one will be turned away) \n 
URL:https://rootead.org/event/embodied-families-jan-25-2024/
LOCATION:Rootead\, 505 E Kalamazoo Ave\, Suite 3\, Kalamazoo\, 49007
CATEGORIES:Birth Justice,Home
ATTACH;FMTTYPE=image/jpeg:https://rootead.org/wp-content/uploads/2024/01/Embodied-Families-2024-Flyer-FINAL-scaled.jpg
END:VEVENT
END:VCALENDAR