BEGIN:VCALENDAR
VERSION:2.0
PRODID:-//Rootead - ECPv6.15.20//NONSGML v1.0//EN
CALSCALE:GREGORIAN
METHOD:PUBLISH
X-WR-CALNAME:Rootead
X-ORIGINAL-URL:https://rootead.org
X-WR-CALDESC:Events for Rootead
REFRESH-INTERVAL;VALUE=DURATION:PT1H
X-Robots-Tag:noindex
X-PUBLISHED-TTL:PT1H
BEGIN:VTIMEZONE
TZID:UTC
BEGIN:STANDARD
TZOFFSETFROM:+0000
TZOFFSETTO:+0000
TZNAME:UTC
DTSTART:20230101T000000
END:STANDARD
END:VTIMEZONE
BEGIN:VEVENT
DTSTART;TZID=UTC:20240308T183000
DTEND;TZID=UTC:20240308T203000
DTSTAMP:20260425T103949
CREATED:20240209T184619Z
LAST-MODIFIED:20240426T183328Z
UID:10000262-1709922600-1709929800@rootead.org
SUMMARY:African Drum + Dance Workshop
DESCRIPTION:Dates:\n\nFriday\, March 8\, 6:30 PM – 8:30 PM\nFriday\, April 12\, 6:30 PM – 8:30 PM\n\nAdmission:\n\n$20 per session\n\nRegistration:\n\nCLICK HERE TO REGISTER\n\nLocation:\nRootead Enrichment Center \n505 E. Kalamazoo Avenue\, Suite 4 \nKalamazoo\, MI 49007 \n  \n 
URL:https://rootead.org/event/african-drum-dance-mar-8-2024/
LOCATION:Rootead\, 505 E Kalamazoo Ave\, Suite 3\, Kalamazoo\, 49007
CATEGORIES:Community Healing,Home
ATTACH;FMTTYPE=image/png:https://rootead.org/wp-content/uploads/2024/02/Drum-Dance-1.png
END:VEVENT
END:VCALENDAR