BEGIN:VCALENDAR
VERSION:2.0
PRODID:-//Rootead - ECPv6.15.20//NONSGML v1.0//EN
CALSCALE:GREGORIAN
METHOD:PUBLISH
X-WR-CALNAME:Rootead
X-ORIGINAL-URL:https://rootead.org
X-WR-CALDESC:Events for Rootead
REFRESH-INTERVAL;VALUE=DURATION:PT1H
X-Robots-Tag:noindex
X-PUBLISHED-TTL:PT1H
BEGIN:VTIMEZONE
TZID:UTC
BEGIN:STANDARD
TZOFFSETFROM:+0000
TZOFFSETTO:+0000
TZNAME:UTC
DTSTART:20230101T000000
END:STANDARD
END:VTIMEZONE
BEGIN:VEVENT
DTSTART;TZID=UTC:20240314T180000
DTEND;TZID=UTC:20240314T184500
DTSTAMP:20260425T103948
CREATED:20240209T190204Z
LAST-MODIFIED:20240219T190316Z
UID:10000264-1710439200-1710441900@rootead.org
SUMMARY:Hip Hop Kettlebell - Spring Session II
DESCRIPTION:Join us for Hip Hop Kettlebell!\nWe will be offering Hip Hop Kettlebell Session 2 beginning Thursday\, March 14\, 2024. \nThis is a 6-week session class that requires pre-registration for the entire 6 weeks. (The reason for this is to teach progression steps to prevent injury and provide the best experience for all participants\, while also building community.) \n\nThursday\, March 14\nThursday\, March 21\nThursday\, March 28\nThursday\, April 4\nThursday April 11\nThursday\, April 18\n\nThere are 12 slots available. $100/6 weeks. Two scholarships available per session. \nHip Hop Kettlebell will embody movement in addition to utilization of the kettlebell. \n  \nWhat: Hip Hop Kettlebell Spring Session #2\nWhen: Thursdays at 6PM-6:45PM\, beginning March 14\, 2024\nWhere: Rootead Studio 505 E. Kalamazoo Ave. 49007\nWhy: Provide further healing through movement and building community.\nFacilitated by Rootead Staff \n  \nREGISTER HERE
URL:https://rootead.org/event/hip-hop-kettlebell-spring-session-2/
LOCATION:Rootead\, 505 E Kalamazoo Ave\, Suite 3\, Kalamazoo\, 49007
CATEGORIES:Home
ATTACH;FMTTYPE=image/png:https://rootead.org/wp-content/uploads/2024/02/Kettlebell-2.png
END:VEVENT
BEGIN:VEVENT
DTSTART;TZID=UTC:20240314T190000
DTEND;TZID=UTC:20240314T194500
DTSTAMP:20260425T103948
CREATED:20240202T220348Z
LAST-MODIFIED:20240426T183304Z
UID:10000260-1710442800-1710445500@rootead.org
SUMMARY:African Somatic Movement with Kama
DESCRIPTION:Join us for a four-week session of embodied movement!\nDuring these 45-minute classes\, Kama Tai Mitchell will guide you through simple and accessible movements that will ground you and help you better understand your body’s mobility and functionality. \nClasses will be at Rootead’s Studio from 7:00 PM – 7:45 PM on the following Thursdays: \n\nFebruary 29\nMarch 7\nMarch 14\nMarch 21\n\n  \nThis is an adult-only class\, and registration is required. \nTo avoid disruptions\, there will be no drop-ins for this session.  \nREGISTER HERE\n  \nWhen: Thursdays from 7:00 PM – 7:45 PM\, for 4 weeks beginning February 29th \nWhere: Rootead Studio \nCost: $75\, Registration Required \n  \nFor any questions\, please email: coco@rootead.org
URL:https://rootead.org/event/african-somatic-movement-with-kama-mar-14-2024/
LOCATION:Rootead\, 505 E Kalamazoo Ave\, Suite 3\, Kalamazoo\, 49007
CATEGORIES:Community Healing,Home
ATTACH;FMTTYPE=image/png:https://rootead.org/wp-content/uploads/2024/02/Rootead-African-Somatic-Movement.png
END:VEVENT
END:VCALENDAR