BEGIN:VCALENDAR
VERSION:2.0
PRODID:-//Rootead - ECPv6.15.20//NONSGML v1.0//EN
CALSCALE:GREGORIAN
METHOD:PUBLISH
X-WR-CALNAME:Rootead
X-ORIGINAL-URL:https://rootead.org
X-WR-CALDESC:Events for Rootead
REFRESH-INTERVAL;VALUE=DURATION:PT1H
X-Robots-Tag:noindex
X-PUBLISHED-TTL:PT1H
BEGIN:VTIMEZONE
TZID:UTC
BEGIN:STANDARD
TZOFFSETFROM:+0000
TZOFFSETTO:+0000
TZNAME:UTC
DTSTART:20230101T000000
END:STANDARD
END:VTIMEZONE
BEGIN:VEVENT
DTSTART;TZID=UTC:20240323T100000
DTEND;TZID=UTC:20240323T120000
DTSTAMP:20260425T103948
CREATED:20230817T171100Z
LAST-MODIFIED:20240417T144802Z
UID:10000101-1711188000-1711195200@rootead.org
SUMMARY:Rootead in Youth - Spring Session
DESCRIPTION:Rootead in Youth (RIY) is a program for children ages 2 – 8 years old that includes instruction on movement\, songs\, rhythms\, and storytelling centering on the African Diaspora. \nRIY Spring Session 2024 will be Saturdays: March 23\, March 30\, April 6\, April 20\, April 27 \nThe schedule for each RIY Saturday is: \n\n10:00am – 10:30am: 2 – 3 year olds\n10:45am – 11:15am: 4 – 5 year olds\n11:30am – 12:00pm: 6 – 8 year olds\n\n  \nThe cost for this program is $65. Scholarships are available. REGISTER HERE \nPlease email will@rootead.org with any questions.
URL:https://rootead.org/event/rootead-in-youth-sppring-session-mar23/
LOCATION:Rootead\, 505 E Kalamazoo Ave\, Suite 3\, Kalamazoo\, 49007
CATEGORIES:Home,Youth Enrichment
ATTACH;FMTTYPE=image/png:https://rootead.org/wp-content/uploads/2023/08/RIY-Spring-2024.png
END:VEVENT
BEGIN:VEVENT
DTSTART;TZID=UTC:20240323T100000
DTEND;TZID=UTC:20240323T120000
DTSTAMP:20260425T103948
CREATED:20240112T191714Z
LAST-MODIFIED:20240426T182731Z
UID:10000249-1711188000-1711195200@rootead.org
SUMMARY:Grief Circle
DESCRIPTION:Grief Circle\nIf you are experiencing grief\, we welcome you to our monthly Grief Circles held 4th Saturdays\, 10:00AM – 12:00PM and facilitated by Rootead Staff.\nThese healing circles are intentional\, brave & supportive spaces that offer community support and tools for processing grief. \nThe group agreements include confidentiality\, radical acceptance\, and compassion.  Everyone is welcome to share to their comfort level\, and we honor all paths to healing. \nOur Grief Circles are offered at no charge\, but we welcome donations to help cover the cost of doing this work. \nREGISTER FOR GRIEF CIRCLE HERE\n  \nWhen: Saturday March 23rd\,  10 AM -noon \nWhere: Rootead Studio \n  \n\nWhat is grief? \nGrief is the experience of coping with loss. Grief can accompany any event that disrupts or challenges our sense of normalcy or ourselves. This includes the loss of connections that define us.  You may grieve the loss of: \n\nA loved one.\nA marriage\, friendship or another form of kinship.\nYour home\, neighborhood or community.\nYour job or career.\nFinancial stability.\nA dream or goal.\nGood health.\nYour youth.\nFertility.\nYour own loss of life as you prepare for death.\n\n[Taken from https://my.clevelandclinic.org/health/diseases/24787-grief]
URL:https://rootead.org/event/grief-circle-march-2024/
LOCATION:Rootead\, 505 E Kalamazoo Ave\, Suite 3\, Kalamazoo\, 49007
CATEGORIES:Community Healing,Home
ATTACH;FMTTYPE=image/jpeg:https://rootead.org/wp-content/uploads/2024/01/Grief-Circle-March-2024-e1714155975122.jpeg
END:VEVENT
END:VCALENDAR