BEGIN:VCALENDAR
VERSION:2.0
PRODID:-//Rootead - ECPv6.15.20//NONSGML v1.0//EN
CALSCALE:GREGORIAN
METHOD:PUBLISH
X-ORIGINAL-URL:https://rootead.org
X-WR-CALDESC:Events for Rootead
REFRESH-INTERVAL;VALUE=DURATION:PT1H
X-Robots-Tag:noindex
X-PUBLISHED-TTL:PT1H
BEGIN:VTIMEZONE
TZID:UTC
BEGIN:STANDARD
TZOFFSETFROM:+0000
TZOFFSETTO:+0000
TZNAME:UTC
DTSTART:20230101T000000
END:STANDARD
END:VTIMEZONE
BEGIN:VEVENT
DTSTART;TZID=UTC:20240525T100000
DTEND;TZID=UTC:20240525T120000
DTSTAMP:20260425T041422
CREATED:20240503T192707Z
LAST-MODIFIED:20240613T153539Z
UID:10000351-1716631200-1716638400@rootead.org
SUMMARY:Grief Circle
DESCRIPTION:Grief Circle\nIf you are experiencing grief\, we welcome you to our monthly Grief Circles held 4th Saturdays\, 10:00AM – 12:00PM and facilitated by Rootead Staff.\nThese healing circles are intentional\, brave & supportive spaces that offer community support and tools for processing grief. \nThe group agreements include confidentiality\, radical acceptance\, and compassion.  Everyone is welcome to share to their comfort level\, and we honor all paths to healing. \nOur Grief Circles are offered at no charge\, but we welcome donations to help cover the cost of doing this work. \nREGISTER FOR GRIEF CIRCLE HERE\n  \nWhen: Saturday May 25th\,  10 AM -noon \nWhere: Rootead Studio \n  \n\nWhat is grief? \nGrief is the experience of coping with loss. Grief can accompany any event that disrupts or challenges our sense of normalcy or ourselves. This includes the loss of connections that define us.  You may grieve the loss of: \n\nA loved one.\nA marriage\, friendship or another form of kinship.\nYour home\, neighborhood or community.\nYour job or career.\nFinancial stability.\nA dream or goal.\nGood health.\nYour youth.\nFertility.\nYour own loss of life as you prepare for death.\n\n[Taken from https://my.clevelandclinic.org/health/diseases/24787-grief]
URL:https://rootead.org/event/grief-circle-may/
LOCATION:Rootead\, 505 E Kalamazoo Ave\, Suite 3\, Kalamazoo\, 49007
CATEGORIES:Community Healing,Home
ATTACH;FMTTYPE=image/jpeg:https://rootead.org/wp-content/uploads/2024/01/Grief-Circle-March-2024-e1714155975122.jpeg
END:VEVENT
END:VCALENDAR