BEGIN:VCALENDAR
VERSION:2.0
PRODID:-//Rootead - ECPv6.15.20//NONSGML v1.0//EN
CALSCALE:GREGORIAN
METHOD:PUBLISH
X-WR-CALNAME:Rootead
X-ORIGINAL-URL:https://rootead.org
X-WR-CALDESC:Events for Rootead
REFRESH-INTERVAL;VALUE=DURATION:PT1H
X-Robots-Tag:noindex
X-PUBLISHED-TTL:PT1H
BEGIN:VTIMEZONE
TZID:UTC
BEGIN:STANDARD
TZOFFSETFROM:+0000
TZOFFSETTO:+0000
TZNAME:UTC
DTSTART:20230101T000000
END:STANDARD
END:VTIMEZONE
BEGIN:VEVENT
DTSTART;TZID=UTC:20240531T090000
DTEND;TZID=UTC:20240531T100000
DTSTAMP:20260425T024707
CREATED:20240515T151829Z
LAST-MODIFIED:20240515T151829Z
UID:10000361-1717146000-1717149600@rootead.org
SUMMARY:Yoga with Kama
DESCRIPTION:Join us for Yoga with Kama!\nStart your day with a very accessible yoga practice which will include asanas (poses)\, pranayama (breathwork)\, guided meditation and nervous system reset led by Kama Tai Mitchell.  \nThis class is for those experienced with yoga. \nThe six-week course will be Friday mornings\, 9:00AM – 10:00AM at Rootead’s studio. \nThe schedule is: \n\nFriday\, May 24\nFriday\, May 31\nFriday\, June 7\nFriday\, June 14\nFriday\, June 21\nFriday\, June 28\n\n  \nSix-week Session Cost: $100 / Drop-In Per Session Cost: $20 \n  \nWhen: Fridays beginning May 24 from 9 AM  – 10 AM \nWhere: Rootead Studio \nSix-week Session Cost: $100 / Drop-In Per Session Cost: $20 \nFor drop-ins\, payments with cash\, check\, or ePay (CashApp\, PayPal\, and Venmo) are preferred\, please. \n  \nFor questions\, please email: coco@rootead.org
URL:https://rootead.org/event/yoga-with-kama-may-31-2024/
LOCATION:Rootead\, 505 E Kalamazoo Ave\, Suite 3\, Kalamazoo\, 49007
CATEGORIES:Community Healing,Home
ATTACH;FMTTYPE=image/png:https://rootead.org/wp-content/uploads/2024/05/yoga-fridays-with-kama.png
END:VEVENT
END:VCALENDAR