BEGIN:VCALENDAR
VERSION:2.0
PRODID:-//Rootead - ECPv6.15.20//NONSGML v1.0//EN
CALSCALE:GREGORIAN
METHOD:PUBLISH
X-ORIGINAL-URL:https://rootead.org
X-WR-CALDESC:Events for Rootead
REFRESH-INTERVAL;VALUE=DURATION:PT1H
X-Robots-Tag:noindex
X-PUBLISHED-TTL:PT1H
BEGIN:VTIMEZONE
TZID:UTC
BEGIN:STANDARD
TZOFFSETFROM:+0000
TZOFFSETTO:+0000
TZNAME:UTC
DTSTART:20230101T000000
END:STANDARD
END:VTIMEZONE
BEGIN:VEVENT
DTSTART;TZID=UTC:20240612T080000
DTEND;TZID=UTC:20240612T090000
DTSTAMP:20260425T024743
CREATED:20240515T150944Z
LAST-MODIFIED:20240515T150944Z
UID:10000357-1718179200-1718182800@rootead.org
SUMMARY:Yoga with Kama
DESCRIPTION:Join us for Yoga with Kama!\nStart your day with a very accessible yoga practice which will include asanas (poses)\, pranayama (breathwork)\, guided meditation and nervous system reset led by Kama Tai Mitchell.  \nThis class is for those experienced with yoga. \nThe six-week course will be Wednesday mornings\, 8:00AM – 9:00AM at Rootead’s studio.  \nThe schedule is: \n\nWednesday\, May 22\nWednesday\, May 29\nWednesday\, June 5\nWednesday\, June 12\nWednesday\, June 19\nWednesday\, June 26\n\n  \nThe cost of this yoga six-week session is $100. Drop-ins welcome at $20/class. \n  \nWhen: Wednesdays starting May 22 from 8 AM  – 9 AM \nWhere: Rootead Studio \n6-Week Cost: $100 / Drop-In Per Session Cost: $20 \nFor drop-ins\, payments with cash\, check\, or ePay (CashApp\, PayPal\, and Venmo) are preferred\, please. \n  \nFor questions\, please email: coco@rootead.org
URL:https://rootead.org/event/yoga-with-kama-june-12-2024/
LOCATION:Rootead\, 505 E Kalamazoo Ave\, Suite 3\, Kalamazoo\, 49007
CATEGORIES:Community Healing,Home
ATTACH;FMTTYPE=image/png:https://rootead.org/wp-content/uploads/2024/05/yoga-wednesdays-with-kama.png
END:VEVENT
BEGIN:VEVENT
DTSTART;TZID=UTC:20240612T100000
DTEND;TZID=UTC:20240612T110000
DTSTAMP:20260425T024743
CREATED:20240426T183749Z
LAST-MODIFIED:20240426T183749Z
UID:10000340-1718186400-1718190000@rootead.org
SUMMARY:Village Playdate
DESCRIPTION:Are you and your little(s) looking for a fun place to learn and play that focuses on inclusivity and community? Come join the village! \n???? Village Playdates are weekly drop-ins with story time and activities to participate in at no cost. \n  \nVillage Playdates will be every Wednesday from 10 AM – 11 AM at Rootead’s studio. \n 
URL:https://rootead.org/event/village-playdate-june-12-2024/
LOCATION:Rootead\, 505 E Kalamazoo Ave\, Suite 3\, Kalamazoo\, 49007
CATEGORIES:Birth Justice,Home
ATTACH;FMTTYPE=image/png:https://rootead.org/wp-content/uploads/2023/09/Village-Playdates.png
END:VEVENT
END:VCALENDAR