BEGIN:VCALENDAR
VERSION:2.0
PRODID:-//Rootead - ECPv6.15.20//NONSGML v1.0//EN
CALSCALE:GREGORIAN
METHOD:PUBLISH
X-ORIGINAL-URL:https://rootead.org
X-WR-CALDESC:Events for Rootead
REFRESH-INTERVAL;VALUE=DURATION:PT1H
X-Robots-Tag:noindex
X-PUBLISHED-TTL:PT1H
BEGIN:VTIMEZONE
TZID:UTC
BEGIN:STANDARD
TZOFFSETFROM:+0000
TZOFFSETTO:+0000
TZNAME:UTC
DTSTART:20230101T000000
END:STANDARD
END:VTIMEZONE
BEGIN:VEVENT
DTSTART;TZID=UTC:20240620T163000
DTEND;TZID=UTC:20240620T183000
DTSTAMP:20260425T024745
CREATED:20240424T173537Z
LAST-MODIFIED:20240524T183159Z
UID:10000337-1718901000-1718908200@rootead.org
SUMMARY:Baby Café
DESCRIPTION:Announcing our new Baby Café at Rootead!\nThursdays weekly from 4:30 PM- 6:30 PM \nOur weekly Baby Café is a new initiative in our community\, dedicated to providing a safe and nurturing space for chest- and breastfeeding individuals to access professional assistance free of charge\, receive unwavering support\, and gain access to invaluable resources essential for the success of their journeys. We understand the significance of supporting individuals and their infants during this crucial stage of life\, and our mission is to create an inclusive environment where everyone feels empowered and supported. \nThe Baby Café is a walk-in parent support group with lactation professionals present to provide support for baby feeding. This free service is available in partnership with Bronson Health Foundation and W.K. Kellogg Foundation. \n  \nDate: Weekly on Thursdays \nTime: 4:30pm-6:30pm \nLocation: Rootead Enrichment Center\, 505 East Kalamazoo Ave. Suite 0\, Kalamazoo\, MI 49007 \n 
URL:https://rootead.org/event/baby-cafe-jun-20-2024/
LOCATION:Rootead\, 505 E Kalamazoo Ave\, Suite 3\, Kalamazoo\, 49007
CATEGORIES:Birth Justice,Home
ATTACH;FMTTYPE=image/png:https://rootead.org/wp-content/uploads/2024/04/Rootead-Baby-Cafe-Graphic-4.png
END:VEVENT
END:VCALENDAR