BEGIN:VCALENDAR
VERSION:2.0
PRODID:-//Rootead - ECPv6.15.20//NONSGML v1.0//EN
CALSCALE:GREGORIAN
METHOD:PUBLISH
X-WR-CALNAME:Rootead
X-ORIGINAL-URL:https://rootead.org
X-WR-CALDESC:Events for Rootead
REFRESH-INTERVAL;VALUE=DURATION:PT1H
X-Robots-Tag:noindex
X-PUBLISHED-TTL:PT1H
BEGIN:VTIMEZONE
TZID:UTC
BEGIN:STANDARD
TZOFFSETFROM:+0000
TZOFFSETTO:+0000
TZNAME:UTC
DTSTART:20230101T000000
END:STANDARD
END:VTIMEZONE
BEGIN:VEVENT
DTSTART;VALUE=DATE:20240704
DTEND;VALUE=DATE:20240709
DTSTAMP:20260425T010303
CREATED:20240627T145552Z
LAST-MODIFIED:20240703T144758Z
UID:10000369-1720051200-1720483199@rootead.org
SUMMARY:CLOSED FOR HOLIDAY
DESCRIPTION:Our offices will be closed for the holiday from Thursday\, July 4th – Monday\, July 8th. We will return to the office Tuesday\, July 9th.
URL:https://rootead.org/event/closed-for-holiday-july-4-2024/
LOCATION:Rootead\, 505 E Kalamazoo Ave\, Suite 3\, Kalamazoo\, 49007
END:VEVENT
END:VCALENDAR