BEGIN:VCALENDAR
VERSION:2.0
PRODID:-//Rootead - ECPv6.15.20//NONSGML v1.0//EN
CALSCALE:GREGORIAN
METHOD:PUBLISH
X-WR-CALNAME:Rootead
X-ORIGINAL-URL:https://rootead.org
X-WR-CALDESC:Events for Rootead
REFRESH-INTERVAL;VALUE=DURATION:PT1H
X-Robots-Tag:noindex
X-PUBLISHED-TTL:PT1H
BEGIN:VTIMEZONE
TZID:UTC
BEGIN:STANDARD
TZOFFSETFROM:+0000
TZOFFSETTO:+0000
TZNAME:UTC
DTSTART:20230101T000000
END:STANDARD
END:VTIMEZONE
BEGIN:VEVENT
DTSTART;VALUE=DATE:20240708
DTEND;VALUE=DATE:20240713
DTSTAMP:20260425T104000
CREATED:20240214T182925Z
LAST-MODIFIED:20240717T152036Z
UID:10000283-1720396800-1720828799@rootead.org
SUMMARY:Youth Summer Camp - Session II
DESCRIPTION:SESSION TWO REGISTRATION IS FULL\, PLEASE JOIN US FOR SESSION THREE BEGINNING JULY 22ND!\n  \nRootead Summer Camp is for youth ages 5 – 12.  Youth will learn the fundamentals of West African Drum & Dance\, make African-inspired crafts\, learn Mancala – the oldest game in the world!  Each summer camp Friday\, the youth will share what they’ve learned with their families at showcase/celebration! \n  \nThere will be three sessions this year\, and the dates are: \n\nSession 1: Monday\, June 24 – Friday\, June 28\, 9:00am – 4:00pm  REGISTRATION FULL\nSession 2: Monday\, July 8 – Friday\, July 12\, 9:00am – 4:00pm\nSession 3: Monday\, July 22 – Friday\, July 26\, 9:00am – 4:00pm\n\n  \nSnacks are provided\, but youth will need to bring a cold\, packed lunch. \nThe cost of the summer camp is $200/week.  Scholarships are available. \nPlease email will@rootead.org with any questions. \n  \nREGISTER FOR SESSION 1\nREGISTER FOR SESSION 2\nREGISTER FOR SESSION 3
URL:https://rootead.org/event/youth-summer-camp-session-2-2024/
LOCATION:Rootead\, 505 E Kalamazoo Ave\, Suite 3\, Kalamazoo\, 49007
CATEGORIES:Home,Youth Enrichment
ATTACH;FMTTYPE=image/png:https://rootead.org/wp-content/uploads/2024/02/Rootead-Summer-Camp-2024-1.png
END:VEVENT
END:VCALENDAR