BEGIN:VCALENDAR
VERSION:2.0
PRODID:-//Rootead - ECPv6.15.20//NONSGML v1.0//EN
CALSCALE:GREGORIAN
METHOD:PUBLISH
X-ORIGINAL-URL:https://rootead.org
X-WR-CALDESC:Events for Rootead
REFRESH-INTERVAL;VALUE=DURATION:PT1H
X-Robots-Tag:noindex
X-PUBLISHED-TTL:PT1H
BEGIN:VTIMEZONE
TZID:UTC
BEGIN:STANDARD
TZOFFSETFROM:+0000
TZOFFSETTO:+0000
TZNAME:UTC
DTSTART:20230101T000000
END:STANDARD
END:VTIMEZONE
BEGIN:VEVENT
DTSTART;TZID=UTC:20240717T100000
DTEND;TZID=UTC:20240717T110000
DTSTAMP:20260425T010324
CREATED:20240627T143640Z
LAST-MODIFIED:20240627T144021Z
UID:10000367-1721210400-1721214000@rootead.org
SUMMARY:Village Playdates @ Baby Café at Rootead
DESCRIPTION:Village Playdates is excited to get out and play in the elements this summer!\nJuly 17th\, Village Playdates will be at the Kalamazoo Baby Café at Rootead. Village Playdates are free\, drop-in play times on Wednesdays from 10 – 11 am for families with children ages 0 – 4! \n  \nWhen: July 17th\, 10am-11am \nWhere: Rootead Enrichment Center\, 505 East Kalamazoo Ave. Suite 0\, Kalamazoo\, MI 49007 \n 
URL:https://rootead.org/event/village-playdates-baby-cafe-at-rootead-july-17-2024/
LOCATION:Rootead\, 505 E Kalamazoo Ave\, Suite 3\, Kalamazoo\, 49007
CATEGORIES:Birth Justice,Home
END:VEVENT
END:VCALENDAR