BEGIN:VCALENDAR
VERSION:2.0
PRODID:-//Rootead - ECPv6.15.20//NONSGML v1.0//EN
CALSCALE:GREGORIAN
METHOD:PUBLISH
X-WR-CALNAME:Rootead
X-ORIGINAL-URL:https://rootead.org
X-WR-CALDESC:Events for Rootead
REFRESH-INTERVAL;VALUE=DURATION:PT1H
X-Robots-Tag:noindex
X-PUBLISHED-TTL:PT1H
BEGIN:VTIMEZONE
TZID:UTC
BEGIN:STANDARD
TZOFFSETFROM:+0000
TZOFFSETTO:+0000
TZNAME:UTC
DTSTART:20230101T000000
END:STANDARD
END:VTIMEZONE
BEGIN:VEVENT
DTSTART;VALUE=DATE:20240722
DTEND;VALUE=DATE:20240727
DTSTAMP:20260425T010328
CREATED:20240214T183205Z
LAST-MODIFIED:20240805T151900Z
UID:10000284-1721606400-1722038399@rootead.org
SUMMARY:Youth Summer Camp - Session III
DESCRIPTION:Rootead Summer Camp is for youth ages 5 – 12.  Youth will learn the fundamentals of West African Drum & Dance\, make African-inspired crafts\, learn Mancala – the oldest game in the world!  Each summer camp Friday\, the youth will share what they’ve learned with their families at showcase/celebration! \n  \nThere will be three sessions this year\, and the dates are: \n\nSession 1: Monday\, June 24 – Friday\, June 28\, 9:00am – 4:00pm\nSession 2: Monday\, July 8 – Friday\, July 12\, 9:00am – 4:00pm\nSession 3: Monday\, July 22 – Friday\, July 26\, 9:00am – 4:00pm\n\n  \nSnacks are provided\, but youth will need to bring a cold\, packed lunch. \nThe cost of the summer camp is $200/week.  Scholarships are available. \nPlease email will@rootead.org with any questions. \n  \nREGISTER FOR SESSION 1\nREGISTER FOR SESSION 2\nREGISTER FOR SESSION 3
URL:https://rootead.org/event/youth-summer-camp-session-3-2024/
LOCATION:Rootead\, 505 E Kalamazoo Ave\, Suite 3\, Kalamazoo\, 49007
CATEGORIES:Home,Youth Enrichment
ATTACH;FMTTYPE=image/png:https://rootead.org/wp-content/uploads/2024/02/Rootead-Summer-Camp-2024-1.png
END:VEVENT
BEGIN:VEVENT
DTSTART;TZID=UTC:20240725T163000
DTEND;TZID=UTC:20240725T183000
DTSTAMP:20260425T010328
CREATED:20240501T161748Z
LAST-MODIFIED:20240524T183557Z
UID:10000345-1721925000-1721932200@rootead.org
SUMMARY:Baby Café
DESCRIPTION:Announcing our new Baby Café at Rootead!\nThursdays weekly from 4:30 PM- 6:30 PM \nOur weekly Baby Café is a new initiative in our community\, dedicated to providing a safe and nurturing space for chest- and breastfeeding individuals to access professional assistance free of charge\, receive unwavering support\, and gain access to invaluable resources essential for the success of their journeys. We understand the significance of supporting individuals and their infants during this crucial stage of life\, and our mission is to create an inclusive environment where everyone feels empowered and supported. \nThe Baby Café is a walk-in parent support group with lactation professionals present to provide support for baby feeding. This free service is available in partnership with Bronson Health Foundation and W.K. Kellogg Foundation. \n  \nDate: Weekly on Thursdays \nTime: 4:30pm-6:30pm \nLocation: Rootead Enrichment Center\, 505 East Kalamazoo Ave. Suite 0\, Kalamazoo\, MI 49007 \n 
URL:https://rootead.org/event/baby-cafe-july-25-2024/
LOCATION:Rootead\, 505 E Kalamazoo Ave\, Suite 3\, Kalamazoo\, 49007
CATEGORIES:Birth Justice,Home
ATTACH;FMTTYPE=image/png:https://rootead.org/wp-content/uploads/2024/04/Rootead-Baby-Cafe-Graphic-4.png
END:VEVENT
END:VCALENDAR