BEGIN:VCALENDAR
VERSION:2.0
PRODID:-//Rootead - ECPv6.15.20//NONSGML v1.0//EN
CALSCALE:GREGORIAN
METHOD:PUBLISH
X-ORIGINAL-URL:https://rootead.org
X-WR-CALDESC:Events for Rootead
REFRESH-INTERVAL;VALUE=DURATION:PT1H
X-Robots-Tag:noindex
X-PUBLISHED-TTL:PT1H
BEGIN:VTIMEZONE
TZID:UTC
BEGIN:STANDARD
TZOFFSETFROM:+0000
TZOFFSETTO:+0000
TZNAME:UTC
DTSTART:20230101T000000
END:STANDARD
END:VTIMEZONE
BEGIN:VEVENT
DTSTART;TZID=UTC:20241003T160000
DTEND;TZID=UTC:20241003T183000
DTSTAMP:20260424T213115
CREATED:20240722T153352Z
LAST-MODIFIED:20241023T151353Z
UID:10000371-1727971200-1727980200@rootead.org
SUMMARY:RYDDE Auditions
DESCRIPTION:Audition for RYDDE (Rootead Youth Drum & Dance Ensemble)\nRYDDE is a non-competitive\, pre-professional youth & dance company for middle and high school aged youth. They perform in the wider Kalamazoo area\, training in the arts of the Black diaspora. RYDEE is open to ages 13-18.\nRYDDE seasons align with the KPS school calendar\, and the youth meet Tuesdays\, Wednesdays\, and Thursdays from 3:30-5:30 PM at Rootead’s Studio. Transportation is available for youth who live within the Greater Kalamazoo area. \n  \nRYDDE Season 7 Auditions will be Thursday\, October 3rd at Rootead’s Studio from 4:00 PM – 6:30 PM\, with a breakdown of the audition times below:\n\nDrummer Auditions: Thursday\, October 3rd\,  4:00 PM – 5:00 PM\nDancer Auditions: Thursday\, October 3rd\,  5:00 PM – 6:30 PM\n\nNo need to register\, just show up!\n  \nWhere: 505 East Kalamazoo Ave.\, Suite 3\, Kalamazoo\, MI 49007 \n  \nLearn more about RYDDE here. \n  \n 
URL:https://rootead.org/event/rydde-auditions-2024/
LOCATION:Rootead\, 505 E Kalamazoo Ave\, Suite 3\, Kalamazoo\, 49007
CATEGORIES:Home,Youth Enrichment
ATTACH;FMTTYPE=image/png:https://rootead.org/wp-content/uploads/2024/07/RYDDE-Auditions-Social-Media-1.png
END:VEVENT
BEGIN:VEVENT
DTSTART;TZID=UTC:20241003T163000
DTEND;TZID=UTC:20241003T183000
DTSTAMP:20260424T213115
CREATED:20240821T150557Z
LAST-MODIFIED:20240918T154048Z
UID:10000377-1727973000-1727980200@rootead.org
SUMMARY:Baby Café Open Hours
DESCRIPTION:Announcing our new Kalamazoo Baby Café at Rootead!\nThursdays weekly from 4:30 PM- 6:30 PM \nOur weekly Kalamazoo Baby Café at Rootead is a new initiative in our community\, dedicated to providing a safe and nurturing space for chest- and breastfeeding individuals to access professional assistance free of charge\, receive unwavering support\, and gain access to invaluable resources essential for the success of their journeys. We understand the significance of supporting individuals and their infants during this crucial stage of life\, and our mission is to create an inclusive environment where everyone feels empowered and supported. \nThe Baby Café is a walk-in parent support group with lactation professionals present to provide support for baby feeding. This free service is available in partnership with Bronson Health Foundation and W.K. Kellogg Foundation. \n  \nDate: Weekly on Thursdays \nTime: 4:30pm-6:30pm \nLocation: Rootead Enrichment Center\, 505 East Kalamazoo Ave. Suite 0\, Kalamazoo\, MI 49007 \n 
URL:https://rootead.org/event/baby-cafe-oct-3-2024/
LOCATION:Rootead\, 505 E Kalamazoo Ave\, Suite 3\, Kalamazoo\, 49007
CATEGORIES:Birth Justice,Home
ATTACH;FMTTYPE=image/png:https://rootead.org/wp-content/uploads/2024/04/Rootead-Baby-Cafe-Graphic-4.png
END:VEVENT
BEGIN:VEVENT
DTSTART;TZID=UTC:20241003T193000
DTEND;TZID=UTC:20241003T210000
DTSTAMP:20260424T213115
CREATED:20240905T160905Z
LAST-MODIFIED:20241030T150203Z
UID:10000403-1727983800-1727989200@rootead.org
SUMMARY:Poetry Night
DESCRIPTION:Join us for Poetry Night!\nCreating space for young adults through the healing art of spoken word. Join us on the first Thursday of each month October through March alongside a featured artist. Whether you listen or perform\, all are welcome. Tea and water will be provided. In partnership with RAWK. \nWhen: First Thursdays of the month\, beginning October 2024 and running through March 2025 \nWhere: Rootead Studio \nAges: 18+ \nCost: $2 with student ID/ $5 without student ID [no one will be turned away]
URL:https://rootead.org/event/poetry-night-oct-3-2024/
LOCATION:Rootead\, 505 E Kalamazoo Ave\, Suite 3\, Kalamazoo\, 49007
CATEGORIES:Community Healing,Home
ATTACH;FMTTYPE=image/png:https://rootead.org/wp-content/uploads/2024/09/Poetry-Night-Kandace.png
END:VEVENT
END:VCALENDAR