BEGIN:VCALENDAR
VERSION:2.0
PRODID:-//Rootead - ECPv6.15.20//NONSGML v1.0//EN
CALSCALE:GREGORIAN
METHOD:PUBLISH
X-WR-CALNAME:Rootead
X-ORIGINAL-URL:https://rootead.org
X-WR-CALDESC:Events for Rootead
REFRESH-INTERVAL;VALUE=DURATION:PT1H
X-Robots-Tag:noindex
X-PUBLISHED-TTL:PT1H
BEGIN:VTIMEZONE
TZID:UTC
BEGIN:STANDARD
TZOFFSETFROM:+0000
TZOFFSETTO:+0000
TZNAME:UTC
DTSTART:20230101T000000
END:STANDARD
END:VTIMEZONE
BEGIN:VEVENT
DTSTART;VALUE=DATE:20241010
DTEND;VALUE=DATE:20241011
DTSTAMP:20260424T200822
CREATED:20241007T151804Z
LAST-MODIFIED:20241007T151827Z
UID:10000448-1728518400-1728604799@rootead.org
SUMMARY:Baby Café CLOSED
DESCRIPTION:The Kalamazoo Baby Café at Rootead will be closed on Thursday\, October 10th. \nWe’ll return on October 17th with our updated open hours schedule of Thursdays weekly from 10am – 12pm.
URL:https://rootead.org/event/baby-cafe-closed-oct-10-2024/
LOCATION:Rootead\, 505 E Kalamazoo Ave\, Suite 3\, Kalamazoo\, 49007
CATEGORIES:Birth Justice,Home
END:VEVENT
BEGIN:VEVENT
DTSTART;TZID=UTC:20241010T180000
DTEND;TZID=UTC:20241010T184500
DTSTAMP:20260424T200822
CREATED:20240905T155308Z
LAST-MODIFIED:20241118T173628Z
UID:10000397-1728583200-1728585900@rootead.org
SUMMARY:Hip Hop Kettlebell - Fall Session
DESCRIPTION:Join us for Hip Hop Kettlebell!\nHip hop kettlebell offers a combination of strength and cardiovascular movement. This 6 week series cultivates an environment which uplifts\, empowers and grounds you in community. Vibe to the sounds of hip hop music over the decades! \nWe will be offering Hip Hop Kettlebell Fall Session beginning Thursday\, October 10\, 2024. \nThis is a 6-week session class that requires pre-registration for the entire 6 weeks. (The reason for this is to teach progression steps to prevent injury and provide the best experience for all participants\, while also building community.) \nDates are: \n\nThursday\, October 10\nThursday\, October 17\nThursday\, October 24\nNO CLASS THURSDAY\, OCTOBER 31\nThursday\, November 7\nThursday\, November 14\nThursday\, November 21\n\nThere are 20 slots available. $100/6 weeks. Scholarships are available but limited. \nHip Hop Kettlebell will embody movement in addition to utilization of the kettlebell. \n  \nWhat: Hip Hop Kettlebell Fall Session\nWhen: Thursdays at 6:00 PM-6:45 PM\, beginning October 10\, 2024\nWhere: Rootead Studio 505 E. Kalamazoo Ave. 49007\nWhy: Provide further healing through movement and building community.\nFacilitated by Rootead Staff \n  \nREGISTER HERE
URL:https://rootead.org/event/hip-hop-kettlebell-oct-10-2024/
LOCATION:Rootead\, 505 E Kalamazoo Ave\, Suite 3\, Kalamazoo\, 49007
CATEGORIES:Community Healing,Home
ATTACH;FMTTYPE=image/jpeg:https://rootead.org/wp-content/uploads/2024/09/Hip-Hop-Kettlebell-Oct-scaled.jpg
END:VEVENT
END:VCALENDAR