BEGIN:VCALENDAR
VERSION:2.0
PRODID:-//Rootead - ECPv6.15.20//NONSGML v1.0//EN
CALSCALE:GREGORIAN
METHOD:PUBLISH
X-WR-CALNAME:Rootead
X-ORIGINAL-URL:https://rootead.org
X-WR-CALDESC:Events for Rootead
REFRESH-INTERVAL;VALUE=DURATION:PT1H
X-Robots-Tag:noindex
X-PUBLISHED-TTL:PT1H
BEGIN:VTIMEZONE
TZID:UTC
BEGIN:STANDARD
TZOFFSETFROM:+0000
TZOFFSETTO:+0000
TZNAME:UTC
DTSTART:20230101T000000
END:STANDARD
END:VTIMEZONE
BEGIN:VEVENT
DTSTART;TZID=UTC:20241016T080000
DTEND;TZID=UTC:20241016T090000
DTSTAMP:20260424T200822
CREATED:20240905T143709Z
LAST-MODIFIED:20240916T161151Z
UID:10000383-1729065600-1729069200@rootead.org
SUMMARY:Yoga with Kama
DESCRIPTION:Join us for Yoga with Kama!\nRise and shine with an invigorating flow for mobility\, breathwork\, chanting and meditation. Tantra Hatha Yoga \nThe 8-week course will be Wednesday mornings\, 8:00AM – 9:00AM at Rootead’s studio. \nThe schedule is: \n\nWednesday\, October 2\nWednesday\, October 9\nWednesday\, October 16\nWednesday\, October 23\nWednesday\, October 30\nWednesday\, November 6\nWednesday\, November 13\nWednesday\, November 20\n\n  \nWhen: Wednesdays beginning October 2nd from 8 AM  – 9 AM \nWhere: Rootead Studio \nCost: $100 [scholarships available\, but limited] \nREGISTER NOW: Click Here to Register for Yoga with Kama Fall 2024 \n  \n 
URL:https://rootead.org/event/yoga-with-kama-oct-16-2024/
LOCATION:Rootead\, 505 E Kalamazoo Ave\, Suite 3\, Kalamazoo\, 49007
CATEGORIES:Community Healing,Home
ATTACH;FMTTYPE=image/png:https://rootead.org/wp-content/uploads/2024/09/Yoga-Oct.png
END:VEVENT
BEGIN:VEVENT
DTSTART;TZID=UTC:20241016T100000
DTEND;TZID=UTC:20241016T113000
DTSTAMP:20260424T200822
CREATED:20240905T171951Z
LAST-MODIFIED:20240905T171951Z
UID:10000419-1729072800-1729078200@rootead.org
SUMMARY:Village Playdate
DESCRIPTION:Are you and your little(s) looking for a fun place to learn and play that focuses on inclusivity and community? Come join the village! \n???? Village Playdates are weekly drop-ins with story time and activities to participate in at no cost. \n  \nVillage Playdates will be every Wednesday from 10 AM – 11:30 AM at the Kalamazoo Baby Café at Rootead. \n  \n 
URL:https://rootead.org/event/village-playdate-oct-16-2024/
LOCATION:Rootead\, 505 E Kalamazoo Ave\, Suite 3\, Kalamazoo\, 49007
CATEGORIES:Birth Justice,Home
END:VEVENT
BEGIN:VEVENT
DTSTART;TZID=UTC:20241016T110000
DTEND;TZID=UTC:20241016T130000
DTSTAMP:20260424T200822
CREATED:20240918T152001Z
LAST-MODIFIED:20240918T152001Z
UID:10000438-1729076400-1729083600@rootead.org
SUMMARY:Diaper Giveaway @ Baby Café
DESCRIPTION:Diaper Giveaway Every Wednesday!\nDiaper giveaway will be every Wednesday beginning on Sept 25th from 11 AM -1 PM.  Come to the Village Playdates and also get free diapers! \nNewborn – 4t/ 5t Pull-ups ~ Limited supply\, first come first serve! \n  \n???? Village Playdates are weekly drop-ins with story time and activities to participate in at no cost. \nVillage Playdates will be every Wednesday from 10 AM – 11:30 AM at the Kalamazoo Baby Café at Rootead. \n  \n 
URL:https://rootead.org/event/diaper-giveaway-oct-16-2024/
LOCATION:Rootead\, 505 E Kalamazoo Ave\, Suite 3\, Kalamazoo\, 49007
CATEGORIES:Birth Justice,Home
ATTACH;FMTTYPE=image/png:https://rootead.org/wp-content/uploads/2024/09/Diaper-Giveaway.png
END:VEVENT
END:VCALENDAR