BEGIN:VCALENDAR
VERSION:2.0
PRODID:-//Rootead - ECPv6.15.20//NONSGML v1.0//EN
CALSCALE:GREGORIAN
METHOD:PUBLISH
X-ORIGINAL-URL:https://rootead.org
X-WR-CALDESC:Events for Rootead
REFRESH-INTERVAL;VALUE=DURATION:PT1H
X-Robots-Tag:noindex
X-PUBLISHED-TTL:PT1H
BEGIN:VTIMEZONE
TZID:UTC
BEGIN:STANDARD
TZOFFSETFROM:+0000
TZOFFSETTO:+0000
TZNAME:UTC
DTSTART:20230101T000000
END:STANDARD
END:VTIMEZONE
BEGIN:VEVENT
DTSTART;TZID=UTC:20241114T100000
DTEND;TZID=UTC:20241114T120000
DTSTAMP:20260424T184304
CREATED:20240905T173825Z
LAST-MODIFIED:20241004T174942Z
UID:10000430-1731578400-1731585600@rootead.org
SUMMARY:Baby Café Open Hours
DESCRIPTION:Announcing our new Kalamazoo Baby Café at Rootead!\nThursdays weekly from 10 AM- 12 PM \nOur weekly Kalamazoo Baby Café at Rootead is a new initiative in our community\, dedicated to providing a safe and nurturing space for chest- and breastfeeding individuals to access professional assistance free of charge\, receive unwavering support\, and gain access to invaluable resources essential for the success of their journeys. We understand the significance of supporting individuals and their infants during this crucial stage of life\, and our mission is to create an inclusive environment where everyone feels empowered and supported. \nThe Baby Café is a walk-in parent support group with lactation professionals present to provide support for baby feeding. This free service is available in partnership with Bronson Health Foundation and W.K. Kellogg Foundation. \n  \nDate: Weekly on Thursdays \nTime: 10am-12pm \nLocation: Rootead Enrichment Center\, 505 East Kalamazoo Ave. Suite 0\, Kalamazoo\, MI 49007 \n 
URL:https://rootead.org/event/baby-cafe-nov-14-2024/
LOCATION:Rootead\, 505 E Kalamazoo Ave\, Suite 3\, Kalamazoo\, 49007
CATEGORIES:Birth Justice,Home
END:VEVENT
BEGIN:VEVENT
DTSTART;TZID=UTC:20241114T180000
DTEND;TZID=UTC:20241114T184500
DTSTAMP:20260424T184304
CREATED:20240905T160105Z
LAST-MODIFIED:20240916T162851Z
UID:10000401-1731607200-1731609900@rootead.org
SUMMARY:Hip Hop Kettlebell - Fall Session
DESCRIPTION:Join us for Hip Hop Kettlebell!\nHip hop kettlebell offers a combination of strength and cardiovascular movement. This 6 week series cultivates an environment which uplifts\, empowers and grounds you in community. Vibe to the sounds of hip hop music over the decades! \nWe will be offering Hip Hop Kettlebell Fall Session beginning Thursday\, October 10\, 2024. \nThis is a 6-week session class that requires pre-registration for the entire 6 weeks. (The reason for this is to teach progression steps to prevent injury and provide the best experience for all participants\, while also building community.) \nDates are: \n\nThursday\, October 10\nThursday\, October 17\nThursday\, October 24\nNO CLASS THURSDAY\, OCTOBER 31\nThursday\, November 7\nThursday\, November 14\nThursday\, November 21\n\nThere are 20 slots available. $100/6 weeks. Scholarships are available but limited. \nHip Hop Kettlebell will embody movement in addition to utilization of the kettlebell. \n  \nWhat: Hip Hop Kettlebell Fall Session\nWhen: Thursdays at 6:00 PM-6:45 PM\, beginning October 10\, 2024\nWhere: Rootead Studio 505 E. Kalamazoo Ave. 49007\nWhy: Provide further healing through movement and building community.\nFacilitated by Rootead Staff \n  \nREGISTER HERE
URL:https://rootead.org/event/hip-hop-kettlebell-nov-14-2024/
LOCATION:Rootead\, 505 E Kalamazoo Ave\, Suite 3\, Kalamazoo\, 49007
CATEGORIES:Community Healing,Home
ATTACH;FMTTYPE=image/jpeg:https://rootead.org/wp-content/uploads/2024/09/Hip-Hop-Kettlebell-Oct-scaled.jpg
END:VEVENT
END:VCALENDAR