BEGIN:VCALENDAR
VERSION:2.0
PRODID:-//Rootead - ECPv6.15.20//NONSGML v1.0//EN
CALSCALE:GREGORIAN
METHOD:PUBLISH
X-WR-CALNAME:Rootead
X-ORIGINAL-URL:https://rootead.org
X-WR-CALDESC:Events for Rootead
REFRESH-INTERVAL;VALUE=DURATION:PT1H
X-Robots-Tag:noindex
X-PUBLISHED-TTL:PT1H
BEGIN:VTIMEZONE
TZID:UTC
BEGIN:STANDARD
TZOFFSETFROM:+0000
TZOFFSETTO:+0000
TZNAME:UTC
DTSTART:20230101T000000
END:STANDARD
END:VTIMEZONE
BEGIN:VEVENT
DTSTART;VALUE=DATE:20241126
DTEND;VALUE=DATE:20241203
DTSTAMP:20260424T170546
CREATED:20241023T153218Z
LAST-MODIFIED:20241127T180652Z
UID:10000451-1732579200-1733183999@rootead.org
SUMMARY:CLOSED for Late Fall Break
DESCRIPTION:Rootead Enrichment Center will be closed for Late Fall Break from Tuesday\, November 26th – Monday\, December 2nd. We will resume regular hours on Tuesday\, December 3rd. \nProgramming will be temporarily paused during this period. Kalamazoo Baby Café at Rootead will not be running during this period on November 28th. \nDoula services and select programs such as Grief Circle will not be affected.
URL:https://rootead.org/event/late-fall-break-2024/
LOCATION:Rootead\, 505 E Kalamazoo Ave\, Suite 3\, Kalamazoo\, 49007
CATEGORIES:Home
ATTACH;FMTTYPE=image/png:https://rootead.org/wp-content/uploads/2023/03/Late-Fall-Break-Post.png
END:VEVENT
END:VCALENDAR