BEGIN:VCALENDAR
VERSION:2.0
PRODID:-//Rootead - ECPv6.15.20//NONSGML v1.0//EN
CALSCALE:GREGORIAN
METHOD:PUBLISH
X-ORIGINAL-URL:https://rootead.org
X-WR-CALDESC:Events for Rootead
REFRESH-INTERVAL;VALUE=DURATION:PT1H
X-Robots-Tag:noindex
X-PUBLISHED-TTL:PT1H
BEGIN:VTIMEZONE
TZID:UTC
BEGIN:STANDARD
TZOFFSETFROM:+0000
TZOFFSETTO:+0000
TZNAME:UTC
DTSTART:20230101T000000
END:STANDARD
END:VTIMEZONE
BEGIN:VEVENT
DTSTART;VALUE=DATE:20241221
DTEND;VALUE=DATE:20250102
DTSTAMP:20260424T134804
CREATED:20241023T153840Z
LAST-MODIFIED:20241217T185846Z
UID:10000453-1734739200-1735775999@rootead.org
SUMMARY:CLOSED for Winter Break
DESCRIPTION:Rootead Enrichment Center will be closed for Winter Break from Saturday\, December 21st – Wednesday\, January 1st. We will resume regular hours on Thursday\, January 2nd. \nProgramming will be temporarily paused during this period. Kalamazoo Baby Café at Rootead will not be running during this period on December 26th. \nDoula services and select programs such as Grief Circle will not be affected.
URL:https://rootead.org/event/closed-for-winter-break-2024/
LOCATION:Rootead\, 505 E Kalamazoo Ave\, Suite 3\, Kalamazoo\, 49007
CATEGORIES:Home
ATTACH;FMTTYPE=image/png:https://rootead.org/wp-content/uploads/2024/10/Rootead_WinterBreak.png
END:VEVENT
END:VCALENDAR