BEGIN:VCALENDAR
VERSION:2.0
PRODID:-//Rootead - ECPv6.15.20//NONSGML v1.0//EN
CALSCALE:GREGORIAN
METHOD:PUBLISH
X-WR-CALNAME:Rootead
X-ORIGINAL-URL:https://rootead.org
X-WR-CALDESC:Events for Rootead
REFRESH-INTERVAL;VALUE=DURATION:PT1H
X-Robots-Tag:noindex
X-PUBLISHED-TTL:PT1H
BEGIN:VTIMEZONE
TZID:UTC
BEGIN:STANDARD
TZOFFSETFROM:+0000
TZOFFSETTO:+0000
TZNAME:UTC
DTSTART:20240101T000000
END:STANDARD
END:VTIMEZONE
BEGIN:VEVENT
DTSTART;TZID=UTC:20250121T153000
DTEND;TZID=UTC:20250121T173000
DTSTAMP:20260424T134811
CREATED:20250115T162728Z
LAST-MODIFIED:20250117T164322Z
UID:10000512-1737473400-1737480600@rootead.org
SUMMARY:National Day of Racial Healing
DESCRIPTION:Join us for a Healing Circle\nYouth ages 12-18 are welcome to join from 3:30-5:30 PM on Tuesday\, January 21st at the Rootead Studio to engage in a healing circle. \nRootead youth will lead a movement practice\, share some drumming techniques to release stress\, and celebrate together over light snacks. \n  \n 
URL:https://rootead.org/event/national-day-racial-healing-jan-21-2025/
LOCATION:Rootead\, 505 E Kalamazoo Ave\, Suite 3\, Kalamazoo\, 49007
CATEGORIES:Community Healing,Home
ATTACH;FMTTYPE=image/png:https://rootead.org/wp-content/uploads/2025/01/National-Day-of-Racial-Healing-1.png
END:VEVENT
BEGIN:VEVENT
DTSTART;TZID=UTC:20250121T181500
DTEND;TZID=UTC:20250121T190000
DTSTAMP:20260424T134811
CREATED:20241118T174241Z
LAST-MODIFIED:20241118T182600Z
UID:10000463-1737483300-1737486000@rootead.org
SUMMARY:Dance Fitness w/Heather + Carmen
DESCRIPTION:Join us for Dance Fitness w/Heather & Carmen!\nDance Fitness offers a combination of strength and mobility movement. This series builds community and inspires joy! \nWe will be offering Dance Fitness Winter Session beginning Tuesday\, January 7\, 2025.  Registration closes on December 31\, 2024. \nThis is a 8-week session class that requires pre-registration for the entire 8 weeks. \nDates are: \n\nTuesday\, January 7\nTuesday\, January 14\nTuesday\, January 21\nTuesday\, January 28\nTuesday\, February 4\nTuesday\, February 11\nTuesday\, February 18\nTuesday\, February 25\n\n  \n$100/8 weeks. Scholarships are available but limited. This is an 18+ class. \nDrop-ins welcomed at $15/class [$10 w/student ID]. \n  \nWhat: Dance Fitness w/Heather & Carmen Winter Session\nWhen: Tuesdays at 6:15 PM-7:00 PM\, beginning January 7\, 2025\nWhere: Rootead Studio 505 E. Kalamazoo Ave. 49007\nWh0: All adults 18+ and all abilities are welcome\nFacilitated by Rootead Staff \n  \nREGISTER HERE
URL:https://rootead.org/event/dance-fitness-jan-21-2025/
LOCATION:Rootead\, 505 E Kalamazoo Ave\, Suite 3\, Kalamazoo\, 49007
CATEGORIES:Community Healing,Home
ATTACH;FMTTYPE=image/png:https://rootead.org/wp-content/uploads/2024/11/Dance-Fitness-Social-Media-Post.png
END:VEVENT
END:VCALENDAR