BEGIN:VCALENDAR
VERSION:2.0
PRODID:-//Rootead - ECPv6.15.20//NONSGML v1.0//EN
CALSCALE:GREGORIAN
METHOD:PUBLISH
X-ORIGINAL-URL:https://rootead.org
X-WR-CALDESC:Events for Rootead
REFRESH-INTERVAL;VALUE=DURATION:PT1H
X-Robots-Tag:noindex
X-PUBLISHED-TTL:PT1H
BEGIN:VTIMEZONE
TZID:UTC
BEGIN:STANDARD
TZOFFSETFROM:+0000
TZOFFSETTO:+0000
TZNAME:UTC
DTSTART:20240101T000000
END:STANDARD
END:VTIMEZONE
BEGIN:VEVENT
DTSTART;TZID=UTC:20250218T181500
DTEND;TZID=UTC:20250218T190000
DTSTAMP:20260424T134838
CREATED:20241118T182857Z
LAST-MODIFIED:20241118T182857Z
UID:10000469-1739902500-1739905200@rootead.org
SUMMARY:Dance Fitness w/Heather + Carmen
DESCRIPTION:Join us for Dance Fitness w/Heather & Carmen!\nDance Fitness offers a combination of strength and mobility movement. This series builds community and inspires joy! \nWe will be offering Dance Fitness Winter Session beginning Tuesday\, January 7\, 2025.  Registration closes on December 31\, 2024. \nThis is a 8-week session class that requires pre-registration for the entire 8 weeks. \nDates are: \n\nTuesday\, January 7\nTuesday\, January 14\nTuesday\, January 21\nTuesday\, January 28\nTuesday\, February 4\nTuesday\, February 11\nTuesday\, February 18\nTuesday\, February 25\n\n  \n$100/8 weeks. Scholarships are available but limited. This is an 18+ class. \nDrop-ins welcomed at $15/class [$10 w/student ID]. \n  \nWhat: Dance Fitness w/Heather & Carmen Winter Session\nWhen: Tuesdays at 6:15 PM-7:00 PM\, beginning January 7\, 2025\nWhere: Rootead Studio 505 E. Kalamazoo Ave. 49007\nWh0: All adults 18+ and all abilities are welcome\nFacilitated by Rootead Staff \n  \nREGISTER HERE
URL:https://rootead.org/event/dance-fitness-feb-18-2025/
LOCATION:Rootead\, 505 E Kalamazoo Ave\, Suite 3\, Kalamazoo\, 49007
CATEGORIES:Community Healing,Home
ATTACH;FMTTYPE=image/png:https://rootead.org/wp-content/uploads/2024/11/Dance-Fitness-Social-Media-Post.png
END:VEVENT
END:VCALENDAR