BEGIN:VCALENDAR
VERSION:2.0
PRODID:-//Rootead - ECPv6.15.20//NONSGML v1.0//EN
CALSCALE:GREGORIAN
METHOD:PUBLISH
X-ORIGINAL-URL:https://rootead.org
X-WR-CALDESC:Events for Rootead
REFRESH-INTERVAL;VALUE=DURATION:PT1H
X-Robots-Tag:noindex
X-PUBLISHED-TTL:PT1H
BEGIN:VTIMEZONE
TZID:UTC
BEGIN:STANDARD
TZOFFSETFROM:+0000
TZOFFSETTO:+0000
TZNAME:UTC
DTSTART:20240101T000000
END:STANDARD
END:VTIMEZONE
BEGIN:VEVENT
DTSTART;TZID=UTC:20250304T181500
DTEND;TZID=UTC:20250304T190000
DTSTAMP:20260424T134840
CREATED:20250210T172741Z
LAST-MODIFIED:20250501T143339Z
UID:10000551-1741112100-1741114800@rootead.org
SUMMARY:Dance Fitness w/Heather + Carmen
DESCRIPTION:Join us for Dance Fitness w/Heather & Carmen!\nDance Fitness offers a combination of strength and mobility movement. This series builds community and inspires joy! \nWe will be offering Dance Fitness Winter Session beginning Tuesday\, March 4\, 2025.  Registration closes on March 3. \nThis is a 8-week session class. REGISTER HERE FOR ALL 8 WEEKS.  Drop-ins welcomed at $15/class [$10 w/student ID]. \nDates are: \n\nTuesday\, March 4\nTuesday\, March 11\nTuesday\, March 18\nTuesday\, March 25\nNO CLASS APRIL 1 – SPRING BREAK\nTuesday\, April 8\nTuesday\, April 15\nTuesday\, April 22\nTuesday\, April 29\n\n  \n$100/8 weeks. Scholarships are available but limited. This is an 18+ class. \n  \nWhat: Dance Fitness w/Heather & Carmen Spring Session\nWhen: Tuesdays at 6:15 PM-7:00 PM\, beginning March 4\, 2025\nWhere: Rootead Studio 505 E. Kalamazoo Ave. 49007\nWh0: All adults 18+ and all abilities are welcome\nFacilitated by Rootead Staff \n  \nREGISTER HERE
URL:https://rootead.org/event/dance-fitness-w-heather-carmen-mar-4-2025/
LOCATION:Rootead\, 505 E Kalamazoo Ave\, Suite 3\, Kalamazoo\, 49007
CATEGORIES:Community Healing,Home
ATTACH;FMTTYPE=image/png:https://rootead.org/wp-content/uploads/2025/02/Copy-of-Rootead-West-African-Dance-4-1.png
END:VEVENT
END:VCALENDAR