BEGIN:VCALENDAR
VERSION:2.0
PRODID:-//Rootead - ECPv6.15.20//NONSGML v1.0//EN
CALSCALE:GREGORIAN
METHOD:PUBLISH
X-ORIGINAL-URL:https://rootead.org
X-WR-CALDESC:Events for Rootead
REFRESH-INTERVAL;VALUE=DURATION:PT1H
X-Robots-Tag:noindex
X-PUBLISHED-TTL:PT1H
BEGIN:VTIMEZONE
TZID:UTC
BEGIN:STANDARD
TZOFFSETFROM:+0000
TZOFFSETTO:+0000
TZNAME:UTC
DTSTART:20240101T000000
END:STANDARD
END:VTIMEZONE
BEGIN:VEVENT
DTSTART;TZID=UTC:20250322T100000
DTEND;TZID=UTC:20250322T120000
DTSTAMP:20260424T104134
CREATED:20240905T153524Z
LAST-MODIFIED:20250501T143154Z
UID:10000394-1742637600-1742644800@rootead.org
SUMMARY:Grief Circle
DESCRIPTION:Grief Circle\nIf you are experiencing grief\, we welcome you to our monthly Grief Circles held fourth Saturdays of the month\, 10:00AM – 12:00PM and facilitated by Rootead Staff.\nThis is a monthly gathering to hold space and provide support to others as well as oneself. Collectively practicing simple tools to help make space around grief and continue to find joy and wonder in the world. \n  \nOur Grief Circles are offered at no charge\, but we welcome donations to help cover the cost of doing this work. \nWhen: Last Saturday of the month\, 10 AM -noon beginning October 2024 and running through May 2025 \nWhere: Rootead Studio \nREGISTER TO ATTEND HERE \n  \n\nWhat is grief? \nGrief is the experience of coping with loss. Grief can accompany any event that disrupts or challenges our sense of normalcy or ourselves. This includes the loss of connections that define us.  You may grieve the loss of: \n\nA loved one.\nA marriage\, friendship or another form of kinship.\nYour home\, neighborhood or community.\nYour job or career.\nFinancial stability.\nA dream or goal.\nGood health.\nYour youth.\nFertility.\nYour own loss of life as you prepare for death.\n\n[Taken from https://my.clevelandclinic.org/health/diseases/24787-grief]
URL:https://rootead.org/event/grief-circle-march-22-2025/
LOCATION:Rootead\, 505 E Kalamazoo Ave\, Suite 3\, Kalamazoo\, 49007
CATEGORIES:Community Healing,Home
ATTACH;FMTTYPE=image/png:https://rootead.org/wp-content/uploads/2024/09/Grief-Circle-General-with-Time.png
END:VEVENT
BEGIN:VEVENT
DTSTART;TZID=UTC:20250322T100000
DTEND;TZID=UTC:20250322T124500
DTSTAMP:20260424T104134
CREATED:20250205T185546Z
LAST-MODIFIED:20250205T185546Z
UID:10000543-1742637600-1742647500@rootead.org
SUMMARY:Rootead in Youth - Spring Session
DESCRIPTION:Rootead in Youth (RIY) is a holistic cultural arts program for children ages 2 – 8 years old that features communal affirmations\, West African dance\, Djembe drumming\, call and response songs from the African diaspora\, an obstacle course highlighting fundamental movement skills\, and nervous system regulation techniques. \n  \nRIY Spring Session 2025 will be Saturdays: March 8\, March 15\, March 22\, March 29\, April 5 \nThe schedule for each RIY Saturday is: \n\n10:00am – 10:45am: 2 – 3 year olds\n11:00am – 11:45am: 4 – 5 year olds\n12:00pm – 12:45pm: 6 – 8 year olds\n\n  \nThe cost for this program is $65. Scholarships are available and can be applied for directly in the registration form. REGISTER HERE \nRegistration closes on March 6\, 2025.
URL:https://rootead.org/event/rootead-in-youth-spring-session-mar-22-2025/
LOCATION:Rootead\, 505 E Kalamazoo Ave\, Suite 3\, Kalamazoo\, 49007
CATEGORIES:Home,Youth Enrichment
ATTACH;FMTTYPE=image/png:https://rootead.org/wp-content/uploads/2025/02/Copy-of-Copy-of-2024-25-RIY-Templates-12.png
END:VEVENT
END:VCALENDAR