BEGIN:VCALENDAR
VERSION:2.0
PRODID:-//Rootead - ECPv6.15.20//NONSGML v1.0//EN
CALSCALE:GREGORIAN
METHOD:PUBLISH
X-WR-CALNAME:Rootead
X-ORIGINAL-URL:https://rootead.org
X-WR-CALDESC:Events for Rootead
REFRESH-INTERVAL;VALUE=DURATION:PT1H
X-Robots-Tag:noindex
X-PUBLISHED-TTL:PT1H
BEGIN:VTIMEZONE
TZID:UTC
BEGIN:STANDARD
TZOFFSETFROM:+0000
TZOFFSETTO:+0000
TZNAME:UTC
DTSTART:20240101T000000
END:STANDARD
END:VTIMEZONE
BEGIN:VEVENT
DTSTART;VALUE=DATE:20250401
DTEND;VALUE=DATE:20250405
DTSTAMP:20260424T091727
CREATED:20250210T180354Z
LAST-MODIFIED:20250210T180354Z
UID:10000559-1743465600-1743811199@rootead.org
SUMMARY:CLOSED for Spring Break
DESCRIPTION:Rootead Enrichment Center will be closed for Spring Break from Tuesday\, April 1st – Thursday\, April 4th. We will resume regular hours on Tuesday\, April 8th. \nProgramming will be temporarily paused during this period. Kalamazoo Baby Café at Rootead will not be running during this period on April 3rd. \n 
URL:https://rootead.org/event/closed-for-spring-break-2025/
LOCATION:Rootead\, 505 E Kalamazoo Ave\, Suite 3\, Kalamazoo\, 49007
CATEGORIES:Home
END:VEVENT
END:VCALENDAR