BEGIN:VCALENDAR
VERSION:2.0
PRODID:-//Rootead - ECPv6.15.20//NONSGML v1.0//EN
CALSCALE:GREGORIAN
METHOD:PUBLISH
X-WR-CALNAME:Rootead
X-ORIGINAL-URL:https://rootead.org
X-WR-CALDESC:Events for Rootead
REFRESH-INTERVAL;VALUE=DURATION:PT1H
X-Robots-Tag:noindex
X-PUBLISHED-TTL:PT1H
BEGIN:VTIMEZONE
TZID:UTC
BEGIN:STANDARD
TZOFFSETFROM:+0000
TZOFFSETTO:+0000
TZNAME:UTC
DTSTART:20240101T000000
END:STANDARD
END:VTIMEZONE
BEGIN:VEVENT
DTSTART;TZID=UTC:20250405T100000
DTEND;TZID=UTC:20250405T124500
DTSTAMP:20260424T120653
CREATED:20250205T185703Z
LAST-MODIFIED:20250205T185703Z
UID:10000545-1743847200-1743857100@rootead.org
SUMMARY:Rootead in Youth - Spring Session
DESCRIPTION:Rootead in Youth (RIY) is a holistic cultural arts program for children ages 2 – 8 years old that features communal affirmations\, West African dance\, Djembe drumming\, call and response songs from the African diaspora\, an obstacle course highlighting fundamental movement skills\, and nervous system regulation techniques. \n  \nRIY Spring Session 2025 will be Saturdays: March 8\, March 15\, March 22\, March 29\, April 5 \nThe schedule for each RIY Saturday is: \n\n10:00am – 10:45am: 2 – 3 year olds\n11:00am – 11:45am: 4 – 5 year olds\n12:00pm – 12:45pm: 6 – 8 year olds\n\n  \nThe cost for this program is $65. Scholarships are available and can be applied for directly in the registration form. REGISTER HERE \nRegistration closes on March 6\, 2025.
URL:https://rootead.org/event/rootead-in-youth-spring-session-apr-5-2025/
LOCATION:Rootead\, 505 E Kalamazoo Ave\, Suite 3\, Kalamazoo\, 49007
CATEGORIES:Home,Youth Enrichment
ATTACH;FMTTYPE=image/png:https://rootead.org/wp-content/uploads/2025/02/Copy-of-Copy-of-2024-25-RIY-Templates-12.png
END:VEVENT
END:VCALENDAR