BEGIN:VCALENDAR
VERSION:2.0
PRODID:-//Rootead - ECPv6.15.20//NONSGML v1.0//EN
CALSCALE:GREGORIAN
METHOD:PUBLISH
X-ORIGINAL-URL:https://rootead.org
X-WR-CALDESC:Events for Rootead
REFRESH-INTERVAL;VALUE=DURATION:PT1H
X-Robots-Tag:noindex
X-PUBLISHED-TTL:PT1H
BEGIN:VTIMEZONE
TZID:UTC
BEGIN:STANDARD
TZOFFSETFROM:+0000
TZOFFSETTO:+0000
TZNAME:UTC
DTSTART:20240101T000000
END:STANDARD
END:VTIMEZONE
BEGIN:VEVENT
DTSTART;VALUE=DATE:20250614
DTEND;VALUE=DATE:20250615
DTSTAMP:20260424T055220
CREATED:20250529T194412Z
LAST-MODIFIED:20250529T194456Z
UID:10000615-1749859200-1749945599@rootead.org
SUMMARY:CLOSED for Juneteenth Celebration Event
DESCRIPTION:Rootead Enrichment Center will be closed on Saturday\, June 14th 2025 for our annual Juneteenth Celebration Event! \nJoin us at Bronson Park from 1PM-7PM for the festivities\, and learn more about our Juneteenth Celebration here.  \n 
URL:https://rootead.org/event/closed-for-juneteenth-event-june-14-2025/
LOCATION:Rootead\, 505 E Kalamazoo Ave\, Suite 3\, Kalamazoo\, 49007
CATEGORIES:Home
ATTACH;FMTTYPE=image/png:https://rootead.org/wp-content/uploads/2023/03/Juneteenth-Draft-Options-5.png
END:VEVENT
BEGIN:VEVENT
DTSTART;TZID=UTC:20250614T130000
DTEND;TZID=UTC:20250614T190000
DTSTAMP:20260424T055220
CREATED:20250228T172205Z
LAST-MODIFIED:20250906T191034Z
UID:10000561-1749906000-1749927600@rootead.org
SUMMARY:Juneteenth Celebration @ Bronson Park
DESCRIPTION:SAVE THE DATE FOR OUR ANNUAL JUNETEENTH CELEBRATION!\n  \nWhen: Saturday\, June 14\, 2025 // 1-7 PM \nWhere: Bronson Park \nJoin us for a Juneteenth Celebration\, June 14th from 1-7 PM at Bronson Park! We are now accepting registration applications for Volunteers\, Sponsors\, Food Trucks\, and Vendors. This all-day event is expected to draw many people throughout the day\, so don’t miss this exciting opportunity to be part of it! \nREGISTER HERE: Juneteenth Registration Form\n  \nFor any questions about the event please feel free to call us at 269-720-9200 or email: marketing@rootead.org \nPictures from last year’s celebration:\n\n			\n				\n			\n			\n				\n			\n			\n				\n			\n			\n				\n			\n			\n				\n			\n			\n				\n			\n			\n				\n			\n			\n				\n			\n			\n				\n			\n		\n\n 
URL:https://rootead.org/event/juneteenth-celebration-bronson-park-june-14-2025/
LOCATION:Bronson Park\, 200 Rose Street\, Kalamazoo\, MI\, 49007\, United States
CATEGORIES:Community Healing,Home
ATTACH;FMTTYPE=image/png:https://rootead.org/wp-content/uploads/2023/03/Juneteenth-Draft-Options-5.png
END:VEVENT
END:VCALENDAR