BEGIN:VCALENDAR
VERSION:2.0
PRODID:-//Rootead - ECPv6.15.20//NONSGML v1.0//EN
CALSCALE:GREGORIAN
METHOD:PUBLISH
X-WR-CALNAME:Rootead
X-ORIGINAL-URL:https://rootead.org
X-WR-CALDESC:Events for Rootead
REFRESH-INTERVAL;VALUE=DURATION:PT1H
X-Robots-Tag:noindex
X-PUBLISHED-TTL:PT1H
BEGIN:VTIMEZONE
TZID:UTC
BEGIN:STANDARD
TZOFFSETFROM:+0000
TZOFFSETTO:+0000
TZNAME:UTC
DTSTART:20240101T000000
END:STANDARD
END:VTIMEZONE
BEGIN:VEVENT
DTSTART;VALUE=DATE:20250623
DTEND;VALUE=DATE:20250628
DTSTAMP:20260424T055633
CREATED:20250305T202820Z
LAST-MODIFIED:20250501T143916Z
UID:10000562-1750636800-1751068799@rootead.org
SUMMARY:Youth Summer Camp - Session I
DESCRIPTION:[Update: Session 1\, June 23-27th is full. Space still available for other sessions.]\nRootead Summer Camp is for youth ages 5 – 12. (Must have completed Kindergarten) Youth will learn the fundamentals of West African Drum & Dance\, make African inspired crafts\, & learn mancala! At the end of each session\, the youth will share what they learned at a family showcase! \n  \nThere will be three sessions this year\, and the dates are: \n\nSession 1: Monday\, June 23 – Friday\, June 27\, 9:00am – 4:00pm (SESSION IS FULL)\nSession 2: Monday\, July 7 – Friday\, July 11\, 9:00am – 4:00pm\nSession 3: Monday\, July 21 – Friday\, July 25\, 9:00am – 4:00pm\n\n  \nSnacks are provided\, but youth will need to bring a cold\, packed lunch. \nThe cost of the summer camp is $200/week per child.  Scholarships are available. \nRegistration closes June 20th. \n  \nREGISTER HERE\n  \n 
URL:https://rootead.org/event/youth-summer-camp-session-1-june-23-2025/
LOCATION:Rootead\, 505 E Kalamazoo Ave\, Suite 3\, Kalamazoo\, 49007
CATEGORIES:Home,Youth Enrichment
ATTACH;FMTTYPE=image/png:https://rootead.org/wp-content/uploads/2025/03/Summer-camp-1.png
END:VEVENT
BEGIN:VEVENT
DTSTART;TZID=UTC:20250625T100000
DTEND;TZID=UTC:20250625T113000
DTSTAMP:20260424T055633
CREATED:20250421T171243Z
LAST-MODIFIED:20250421T171243Z
UID:10000569-1750845600-1750851000@rootead.org
SUMMARY:Village Playdate
DESCRIPTION:Are you and your little(s) looking for a fun place to learn and play that focuses on inclusivity and community? Come join the village! \nVillage Playdates are weekly drop-ins with story time and activities to participate in at no cost. \n  \nVillage Playdates will be every Wednesday from 10 AM – 11:30 AM at the Kalamazoo Baby Café at Rootead. \n  \n 
URL:https://rootead.org/event/village-playdate-june-25-2025/
LOCATION:Rootead\, 505 E Kalamazoo Ave\, Suite 3\, Kalamazoo\, 49007
CATEGORIES:Birth Justice,Home
ATTACH;FMTTYPE=image/png:https://rootead.org/wp-content/uploads/2025/04/Screenshot-2025-04-21-at-12.04.44 PM.png
END:VEVENT
BEGIN:VEVENT
DTSTART;TZID=UTC:20250625T110000
DTEND;TZID=UTC:20250625T130000
DTSTAMP:20260424T055633
CREATED:20250421T174816Z
LAST-MODIFIED:20250421T174816Z
UID:10000582-1750849200-1750856400@rootead.org
SUMMARY:Diaper Giveaway @ Baby Café
DESCRIPTION:Diaper Giveaway Every Wednesday!\nDiaper giveaway will be every Wednesday from 11 AM -1 PM.  Come to the Village Playdates and also get free diapers! \nNewborn – 4t/ 5t Pull-ups ~ Limited supply\, first come first serve! \n  \nVillage Playdates are weekly drop-ins with story time and activities to participate in at no cost. \nVillage Playdates will be every Wednesday from 10 AM – 11:30 AM at the Kalamazoo Baby Café at Rootead. \n  \n 
URL:https://rootead.org/event/diaper-giveaway-baby-cafe-june-25-2025/
LOCATION:Rootead\, 505 E Kalamazoo Ave\, Suite 3\, Kalamazoo\, 49007
CATEGORIES:Birth Justice,Home
ATTACH;FMTTYPE=image/png:https://rootead.org/wp-content/uploads/2024/09/Diaper-Giveaway.png
END:VEVENT
END:VCALENDAR