BEGIN:VCALENDAR
VERSION:2.0
PRODID:-//Rootead - ECPv6.15.20//NONSGML v1.0//EN
CALSCALE:GREGORIAN
METHOD:PUBLISH
X-WR-CALNAME:Rootead
X-ORIGINAL-URL:https://rootead.org
X-WR-CALDESC:Events for Rootead
REFRESH-INTERVAL;VALUE=DURATION:PT1H
X-Robots-Tag:noindex
X-PUBLISHED-TTL:PT1H
BEGIN:VTIMEZONE
TZID:UTC
BEGIN:STANDARD
TZOFFSETFROM:+0000
TZOFFSETTO:+0000
TZNAME:UTC
DTSTART:20240101T000000
END:STANDARD
END:VTIMEZONE
BEGIN:VEVENT
DTSTART;VALUE=DATE:20250623
DTEND;VALUE=DATE:20250628
DTSTAMP:20260424T055633
CREATED:20250305T202820Z
LAST-MODIFIED:20250501T143916Z
UID:10000562-1750636800-1751068799@rootead.org
SUMMARY:Youth Summer Camp - Session I
DESCRIPTION:[Update: Session 1\, June 23-27th is full. Space still available for other sessions.]\nRootead Summer Camp is for youth ages 5 – 12. (Must have completed Kindergarten) Youth will learn the fundamentals of West African Drum & Dance\, make African inspired crafts\, & learn mancala! At the end of each session\, the youth will share what they learned at a family showcase! \n  \nThere will be three sessions this year\, and the dates are: \n\nSession 1: Monday\, June 23 – Friday\, June 27\, 9:00am – 4:00pm (SESSION IS FULL)\nSession 2: Monday\, July 7 – Friday\, July 11\, 9:00am – 4:00pm\nSession 3: Monday\, July 21 – Friday\, July 25\, 9:00am – 4:00pm\n\n  \nSnacks are provided\, but youth will need to bring a cold\, packed lunch. \nThe cost of the summer camp is $200/week per child.  Scholarships are available. \nRegistration closes June 20th. \n  \nREGISTER HERE\n  \n 
URL:https://rootead.org/event/youth-summer-camp-session-1-june-23-2025/
LOCATION:Rootead\, 505 E Kalamazoo Ave\, Suite 3\, Kalamazoo\, 49007
CATEGORIES:Home,Youth Enrichment
ATTACH;FMTTYPE=image/png:https://rootead.org/wp-content/uploads/2025/03/Summer-camp-1.png
END:VEVENT
BEGIN:VEVENT
DTSTART;TZID=UTC:20250626T100000
DTEND;TZID=UTC:20250626T120000
DTSTAMP:20260424T055633
CREATED:20250421T181004Z
LAST-MODIFIED:20250421T181004Z
UID:10000595-1750932000-1750939200@rootead.org
SUMMARY:Baby Café Open Hours
DESCRIPTION:Announcing our new Kalamazoo Baby Café at Rootead!\nThursdays weekly from 10 AM – 12 PM \nOur weekly Kalamazoo Baby Café at Rootead is a new initiative in our community\, dedicated to providing a safe and nurturing space for chest- and breastfeeding individuals to access professional assistance free of charge\, receive unwavering support\, and gain access to invaluable resources essential for the success of their journeys. We understand the significance of supporting individuals and their infants during this crucial stage of life\, and our mission is to create an inclusive environment where everyone feels empowered and supported. \nThe Baby Café is a walk-in parent support group with lactation professionals present to provide support for baby feeding. This free service is available in partnership with Bronson Health Foundation and W.K. Kellogg Foundation. \n  \nDate: Weekly on Thursdays \nTime: 10am-12pm \nLocation: Rootead Enrichment Center\, 505 East Kalamazoo Ave. Suite 0\, Kalamazoo\, MI 49007 \n 
URL:https://rootead.org/event/baby-cafe-open-hours-june-26-2025/
LOCATION:Rootead\, 505 E Kalamazoo Ave\, Suite 3\, Kalamazoo\, 49007
CATEGORIES:Birth Justice,Home
ATTACH;FMTTYPE=image/png:https://rootead.org/wp-content/uploads/2024/10/Copy-of-Rootead-Baby-Cafe-Graphic-2.png
END:VEVENT
BEGIN:VEVENT
DTSTART;TZID=UTC:20250626T173000
DTEND;TZID=UTC:20250626T193000
DTSTAMP:20260424T055633
CREATED:20250529T165519Z
LAST-MODIFIED:20250529T170614Z
UID:10000611-1750959000-1750966200@rootead.org
SUMMARY:Blossom Babies Workshop: Childbirth Education - Part I
DESCRIPTION:Announcing Blossom Babies Workshop at Rootead!\nBlossom Babies are supportive\, educational workshops that prepare expecting and new parents for childbirth and early parenthood.\nParticipants will gain essential knowledge\, practical skills\, and emotional support in a welcoming environment. Topics include labor and delivery preparation\, coping techniques\, postpartum wellness\, recognizing and addressing mood changes\, and successful breastfeeding strategies. Whether you’re preparing for your first baby or looking for a refresher\, Blossom Babies offers expert guidance and compassionate care every step of the way. \nThe workshop includes a 4-course series: \n\nBreastfeeding Basics: Friday\, June 20th @ 5:30\n\nLearn the essentials of breastfeeding in this supportive\, evidence-based class designed for new and expecting parents. Led by a certified lactation educator\, this course covers everything you need to know to feel confident and prepared for your breastfeeding journey. \n\nChildbirth Education – Part I: Thursday\, June 26th @ 5:30\nChildbirth Education – Part II: Friday\, June 27th @ 5:30\n\nOur childbirth education class is a comprehensive\, evidence-based program designed to prepare expecting parents for labor\, birth and early postpartum period. Taught by experienced and certified educators and doulas\, the class emphasizes informed decision making\, self-advocacy and culturally responsive care. Participants learn about the stages of labor\, birth planning\, medical interventions\, newborn care\, postpartum recovery and more. Classes are in person. \n\nPerinatal & Postpartum Mood Disorder: Thursday\, July 10th @ 5:30\n\n  \n  \n  \nREGISTER HERE \n  \nCost: \n\nClients of our organization: Free of charge\nCommunity members: $25 per class ($60 for the bundle)\n\nTime: 5:30 PM – 7:30 PM on dates listed \nLocation: Kalamazoo Baby Café at Rootead Enrichment Center\, 505 East Kalamazoo Ave. Suite 0\, Kalamazoo\, MI 49007 \n 
URL:https://rootead.org/event/blossom-babies-workshop-childbirth-education-june-26-2025/
LOCATION:Rootead\, 505 E Kalamazoo Ave\, Suite 3\, Kalamazoo\, 49007
CATEGORIES:Birth Justice,Home
ATTACH;FMTTYPE=image/png:https://rootead.org/wp-content/uploads/2025/05/Blossom-Babies-Flyer-2.png
END:VEVENT
END:VCALENDAR