BEGIN:VCALENDAR
VERSION:2.0
PRODID:-//Rootead - ECPv6.15.20//NONSGML v1.0//EN
CALSCALE:GREGORIAN
METHOD:PUBLISH
X-WR-CALNAME:Rootead
X-ORIGINAL-URL:https://rootead.org
X-WR-CALDESC:Events for Rootead
REFRESH-INTERVAL;VALUE=DURATION:PT1H
X-Robots-Tag:noindex
X-PUBLISHED-TTL:PT1H
BEGIN:VTIMEZONE
TZID:UTC
BEGIN:STANDARD
TZOFFSETFROM:+0000
TZOFFSETTO:+0000
TZNAME:UTC
DTSTART:20240101T000000
END:STANDARD
END:VTIMEZONE
BEGIN:VEVENT
DTSTART;TZID=UTC:20250920T100000
DTEND;TZID=UTC:20250920T160000
DTSTAMP:20260424T005612
CREATED:20250827T181955Z
LAST-MODIFIED:20250827T182145Z
UID:10000649-1758362400-1758384000@rootead.org
SUMMARY:Perinatal Loss Training for Doulas
DESCRIPTION:Perinatal Loss Training for Doulas\nSaturday\, September 20th from 10 AM- 4 PM \nSupporting families through miscarriage\, stillbirth\, or infant loss requires deep compassion\, sensitivity\, and specialized skills. This training prepares doulas to walk alongside grieving families with presence\, respect\, and emotional safety—while honoring each family’s unique experience. Presented by Tides of Life Doula & Perinatal Bereavement Services LLC. \nYou’ll walk away from the training with tools to: \n\nUnderstand the different types of perinatal loss and the physical aspects of each\nExplore the emotional impact of grief on individuals and families\nCommunicate with compassion while reducing the risk of added harm\nOffer practical support in both hospital and home settings — before\, during\, and after a loss\nFacilitate memory making\, legacy building\, and ways families can honor their baby\nSupport clients through pregnancy after loss\, holding space for both hope and fear\n\nCreated and led by an experienced bereavement educator and birth worker\, this in-person session is grounded in both lived experience and clinical insight. \n  \nREGISTRATION IS REQUIRED. Your registration includes:\n\nFull-day\, in-person training\nNourishing lunch and light refreshments\nGentle 30-minute yoga session (optional)\nDownloadable guides and checklists\nCertificate of completion\nCommunity connection with like-hearted professionals\n\n\nREGISTER HERE: Perinatal Loss Training for Doulas at Rootead\n  \nDate: Saturday\, September 20th \nTime: 10 AM – 4 PM \nCost: $279 \nLocation: Rootead Enrichment Center\, 505 E Kalamazoo Ave\, Suite 3\, Kalamazoo\, MI 49007 \n  \n 
URL:https://rootead.org/event/perinatal-loss-training-for-doulas-sept-20-2025/
LOCATION:Rootead\, 505 E Kalamazoo Ave\, Suite 3\, Kalamazoo\, 49007
CATEGORIES:Birth Justice,Home
ATTACH;FMTTYPE=image/png:https://rootead.org/wp-content/uploads/2025/08/Training-Flyer-QR-1-scaled.png
END:VEVENT
END:VCALENDAR