BEGIN:VCALENDAR
VERSION:2.0
PRODID:-//Rootead - ECPv6.15.20//NONSGML v1.0//EN
CALSCALE:GREGORIAN
METHOD:PUBLISH
X-ORIGINAL-URL:https://rootead.org
X-WR-CALDESC:Events for Rootead
REFRESH-INTERVAL;VALUE=DURATION:PT1H
X-Robots-Tag:noindex
X-PUBLISHED-TTL:PT1H
BEGIN:VTIMEZONE
TZID:UTC
BEGIN:STANDARD
TZOFFSETFROM:+0000
TZOFFSETTO:+0000
TZNAME:UTC
DTSTART:20240101T000000
END:STANDARD
END:VTIMEZONE
BEGIN:VEVENT
DTSTART;TZID=UTC:20251024T173000
DTEND;TZID=UTC:20251024T193000
DTSTAMP:20260423T232425
CREATED:20250814T185430Z
LAST-MODIFIED:20251006T151346Z
UID:10000635-1761327000-1761334200@rootead.org
SUMMARY:Blossom Babies Workshop: Childbirth Education - Part II
DESCRIPTION:Announcing Blossom Babies Workshop at Rootead!\nBlossom Babies are supportive\, educational workshops that prepare expecting and new parents for childbirth and early parenthood.\nParticipants will gain essential knowledge\, practical skills\, and emotional support in a welcoming environment. Topics include labor and delivery preparation\, coping techniques\, postpartum wellness\, recognizing and addressing mood changes\, and successful breastfeeding strategies. Whether you’re preparing for your first baby or looking for a refresher\, Blossom Babies offers expert guidance and compassionate care every step of the way. \nThe workshop includes a 4-course series: \n\nChildbirth Education – Part I: Thursday\, October 23rd @ 5:30-7:30 PM\nChildbirth Education – Part II: Friday\, October 24th @ 5:30-7:30 PM\n\nOur childbirth education class is a comprehensive\, evidence-based program designed to prepare expecting parents for labor\, birth and early postpartum period. Taught by experienced and certified educators and doulas\, the class emphasizes informed decision making\, self-advocacy and culturally responsive care. Participants learn about the stages of labor\, birth planning\, medical interventions\, newborn care\, postpartum recovery and more. Classes are in person. \n\nPerinatal & Postpartum Mood Disorder: Thursday\, October 30th @ 5:30-7:30 PM\n\n\nBreastfeeding Basics: Friday\, November 7th @ 5:30-7:30 PM\n\nLearn the essentials of breastfeeding in this supportive\, evidence-based class designed for new and expecting parents. Led by a certified lactation educator\, this course covers everything you need to know to feel confident and prepared for your breastfeeding journey. \n  \n  \nREGISTER HERE \n  \nCost: \n\nClients of our organization: Free of charge\nCommunity members: $25 per class ($60 for the bundle)\n\nTime: 5:30 PM – 7:30 PM on dates listed \nLocation: Kalamazoo Baby Café at Rootead Enrichment Center\, 505 East Kalamazoo Ave. Suite 0\, Kalamazoo\, MI 49007 \n 
URL:https://rootead.org/event/blossom-babies-workshop-childbirth-education-part-ii-oct-24-2025/
LOCATION:Rootead\, 505 E Kalamazoo Ave\, Suite 3\, Kalamazoo\, 49007
CATEGORIES:Birth Justice,Home
ATTACH;FMTTYPE=image/png:https://rootead.org/wp-content/uploads/2025/08/Blossom-Babies-OctNov.png
END:VEVENT
END:VCALENDAR