BEGIN:VCALENDAR
VERSION:2.0
PRODID:-//Rootead - ECPv6.15.20//NONSGML v1.0//EN
CALSCALE:GREGORIAN
METHOD:PUBLISH
X-WR-CALNAME:Rootead
X-ORIGINAL-URL:https://rootead.org
X-WR-CALDESC:Events for Rootead
REFRESH-INTERVAL;VALUE=DURATION:PT1H
X-Robots-Tag:noindex
X-PUBLISHED-TTL:PT1H
BEGIN:VTIMEZONE
TZID:UTC
BEGIN:STANDARD
TZOFFSETFROM:+0000
TZOFFSETTO:+0000
TZNAME:UTC
DTSTART:20240101T000000
END:STANDARD
END:VTIMEZONE
BEGIN:VEVENT
DTSTART;TZID=UTC:20251101T190000
DTEND;TZID=UTC:20251101T230000
DTSTAMP:20260423T215313
CREATED:20250529T173512Z
LAST-MODIFIED:20251104T165851Z
UID:10000614-1762023600-1762038000@rootead.org
SUMMARY:African Masquerade Fundraiser Gala
DESCRIPTION:SAVE THE DATE FOR OUR ANNUAL AFRICAN MASQUERADE FUNDRAISER GALA!\n  \nWhen: Saturday\, November 1\, 2025 // 7-11 PM \nWhere: The Epic Center \nGuests are encouraged to wear masks and expressive attire as we honor the transformative energy of the masquerade tradition. The night also includes a silent auction with unique items generously donated by local businesses and community members. \n  \nFor any questions about the event please feel free to call us at 269-720-9200 or email: marketing@rootead.org
URL:https://rootead.org/event/african-masquerade-fundraiser-gala-nov-1-2025/
LOCATION:The Epic Center\, 359 S Kalamazoo Mall\, Kalamazoo\, MI\, 49007\, United States
CATEGORIES:Community Healing,Home
ATTACH;FMTTYPE=image/png:https://rootead.org/wp-content/uploads/2025/05/Screenshot-2025-05-29-at-12.24.48 PM.png
END:VEVENT
END:VCALENDAR