BEGIN:VCALENDAR
VERSION:2.0
PRODID:-//Rootead - ECPv6.15.20//NONSGML v1.0//EN
CALSCALE:GREGORIAN
METHOD:PUBLISH
X-ORIGINAL-URL:https://rootead.org
X-WR-CALDESC:Events for Rootead
REFRESH-INTERVAL;VALUE=DURATION:PT1H
X-Robots-Tag:noindex
X-PUBLISHED-TTL:PT1H
BEGIN:VTIMEZONE
TZID:UTC
BEGIN:STANDARD
TZOFFSETFROM:+0000
TZOFFSETTO:+0000
TZNAME:UTC
DTSTART:20240101T000000
END:STANDARD
END:VTIMEZONE
BEGIN:VEVENT
DTSTART;TZID=UTC:20251112T100000
DTEND;TZID=UTC:20251112T113000
DTSTAMP:20260423T215340
CREATED:20250806T152202Z
LAST-MODIFIED:20250806T152202Z
UID:10000630-1762941600-1762947000@rootead.org
SUMMARY:Village Playdate
DESCRIPTION:Are you and your little(s) looking for a fun place to learn and play that focuses on inclusivity and community? Come join the village! \nVillage Playdates are weekly drop-ins with story time and activities to participate in at no cost. \n  \nVillage Playdates will be every Wednesday from 10 AM – 11:30 AM at the Kalamazoo Baby Café at Rootead. \n  \n 
URL:https://rootead.org/event/village-playdate-nov-12-2025/
LOCATION:Rootead\, 505 E Kalamazoo Ave\, Suite 3\, Kalamazoo\, 49007
CATEGORIES:Birth Justice,Home
ATTACH;FMTTYPE=image/png:https://rootead.org/wp-content/uploads/2025/04/Screenshot-2025-04-21-at-12.04.44 PM.png
END:VEVENT
BEGIN:VEVENT
DTSTART;TZID=UTC:20251112T110000
DTEND;TZID=UTC:20251112T130000
DTSTAMP:20260423T215340
CREATED:20250821T165810Z
LAST-MODIFIED:20250821T165810Z
UID:10000646-1762945200-1762952400@rootead.org
SUMMARY:Diaper Giveaway @ Baby Café
DESCRIPTION:Diaper Giveaway Every Wednesday!\nDiaper giveaway will be every Wednesday from 11 AM -1 PM.  Come to the Village Playdates and also get free diapers! \nNewborn – 4t/ 5t Pull-ups ~ Limited supply\, first come first serve! \n  \nVillage Playdates are weekly drop-ins with story time and activities to participate in at no cost. \nVillage Playdates will be every Wednesday from 10 AM – 11:30 AM at the Kalamazoo Baby Café at Rootead. \n  \n 
URL:https://rootead.org/event/diaper-giveaway-baby-cafe-nov-12-2025/
LOCATION:Rootead\, 505 E Kalamazoo Ave\, Suite 3\, Kalamazoo\, 49007
CATEGORIES:Birth Justice,Home
ATTACH;FMTTYPE=image/png:https://rootead.org/wp-content/uploads/2024/09/Diaper-Giveaway.png
END:VEVENT
END:VCALENDAR