BEGIN:VCALENDAR
VERSION:2.0
PRODID:-//Rootead - ECPv6.15.20//NONSGML v1.0//EN
CALSCALE:GREGORIAN
METHOD:PUBLISH
X-WR-CALNAME:Rootead
X-ORIGINAL-URL:https://rootead.org
X-WR-CALDESC:Events for Rootead
REFRESH-INTERVAL;VALUE=DURATION:PT1H
X-Robots-Tag:noindex
X-PUBLISHED-TTL:PT1H
BEGIN:VTIMEZONE
TZID:UTC
BEGIN:STANDARD
TZOFFSETFROM:+0000
TZOFFSETTO:+0000
TZNAME:UTC
DTSTART:20240101T000000
END:STANDARD
END:VTIMEZONE
BEGIN:VEVENT
DTSTART;TZID=UTC:20251114T180000
DTEND;TZID=UTC:20251114T200000
DTSTAMP:20260423T215312
CREATED:20251001T161626Z
LAST-MODIFIED:20251030T145727Z
UID:10000697-1763143200-1763150400@rootead.org
SUMMARY:Haakaas + Hot Chocolate
DESCRIPTION:Haakaas & Hot Chocolate: A Relaxed Evening of Sharing & Support\nFriday\, November 14th from 6PM- 8PM — FREE EVENT!\nThe Hot Chocolate & Haakaas event is a cozy\, community-centered gathering designed to create a safe space for open conversations about breastfeeding. With a warm hot chocolate bar and thoughtful giveaways of Haakaas\, participants can relax in a welcoming environment while sharing their personal experiences. With presenters followed by a supportive Q&A session that encourages learning\, connection\, and empowerment. This event is all about sipping something sweet\, building community\, and supporting one another through the breastfeeding journey. \nEnjoy hot chocolate\, ask questions\, connect\, and learn together! Everyone receives Haakaas! Come sip\, share\, and unwind in a welcoming space designed just for you. \nREGISTER NOW: https://www.cognitoforms.com/RooteadEnrichmentCenter/HaakaasHotChocolate\n  \nDate: Friday\, November 14th \nTime: 6PM – 8PM \nLocation: Kalamazoo Baby Café at Rootead\, 505 E Kalamazoo Ave\, Suite 0\, Kalamazoo\, MI 49007 (On the corner of E. Kalamazoo Ave. and Wallbridge St.) \n  \n 
URL:https://rootead.org/event/hot-chocolate-and-haakkas-nov-14-2025/
LOCATION:Rootead\, 505 E Kalamazoo Ave\, Suite 3\, Kalamazoo\, 49007
CATEGORIES:Birth Justice,Home
ATTACH;FMTTYPE=image/png:https://rootead.org/wp-content/uploads/2025/10/Haakaas-Hot-Chocolate-Updated-Flyer-1.png
END:VEVENT
END:VCALENDAR