BEGIN:VCALENDAR
VERSION:2.0
PRODID:-//Rootead - ECPv6.15.20//NONSGML v1.0//EN
CALSCALE:GREGORIAN
METHOD:PUBLISH
X-ORIGINAL-URL:https://rootead.org
X-WR-CALDESC:Events for Rootead
REFRESH-INTERVAL;VALUE=DURATION:PT1H
X-Robots-Tag:noindex
X-PUBLISHED-TTL:PT1H
BEGIN:VTIMEZONE
TZID:UTC
BEGIN:STANDARD
TZOFFSETFROM:+0000
TZOFFSETTO:+0000
TZNAME:UTC
DTSTART:20240101T000000
END:STANDARD
END:VTIMEZONE
BEGIN:VEVENT
DTSTART;VALUE=DATE:20251124
DTEND;VALUE=DATE:20251202
DTSTAMP:20260423T215340
CREATED:20250827T193326Z
LAST-MODIFIED:20250827T194441Z
UID:10000671-1763942400-1764633599@rootead.org
SUMMARY:CLOSED for Late Fall Break
DESCRIPTION:Rootead Enrichment Center will be closed for Late Fall Break from Monday\, November 24th – Monday\, December 1st. We will resume regular hours on Tuesday\, December 2nd. \nProgramming will be temporarily paused during this period. Kalamazoo Baby Café at Rootead will not be running during this period.
URL:https://rootead.org/event/closed-for-late-fall-break-2025/
LOCATION:Rootead\, 505 E Kalamazoo Ave\, Suite 3\, Kalamazoo\, 49007
CATEGORIES:Home
END:VEVENT
END:VCALENDAR