BEGIN:VCALENDAR
VERSION:2.0
PRODID:-//Rootead - ECPv6.15.20//NONSGML v1.0//EN
CALSCALE:GREGORIAN
METHOD:PUBLISH
X-WR-CALNAME:Rootead
X-ORIGINAL-URL:https://rootead.org
X-WR-CALDESC:Events for Rootead
REFRESH-INTERVAL;VALUE=DURATION:PT1H
X-Robots-Tag:noindex
X-PUBLISHED-TTL:PT1H
BEGIN:VTIMEZONE
TZID:UTC
BEGIN:STANDARD
TZOFFSETFROM:+0000
TZOFFSETTO:+0000
TZNAME:UTC
DTSTART:20250101T000000
END:STANDARD
END:VTIMEZONE
BEGIN:VEVENT
DTSTART;TZID=UTC:20260210T181500
DTEND;TZID=UTC:20260210T190000
DTSTAMP:20260423T160305
CREATED:20251219T014129Z
LAST-MODIFIED:20251219T014129Z
UID:10000716-1770747300-1770750000@rootead.org
SUMMARY:Cardio Kickboxing
DESCRIPTION:Join us for Cardio Kickboxing!\nCardio Kickboxing is a high-energy class that blends cardiovascular exercise with strength training and mixed martial arts-inspired moves for a full-body workout. Designed for all fitness levels\, this class improves endurance\, builds strength\, and boosts coordination in an empowering environment. Offered in a 6 week session\, it’s the perfect way to challenge yourself and stay motivated! \nDates are: \n\nTuesday\, January 6\nTuesday\, January 13\nTuesday\, January 20\nTuesday\, January 27\nTuesday\, February 3\nTuesday\, February 10\n\n  \n$100 for 6 weeks. Scholarships are available but limited. This is an 18+ class. Bundle with our Hip Hop Kettlebell Series for just $150 for both classes! \nREGISTER HERE\n  \nWhat: Hip Hop Kettlebell Fall Session\nWhen: Tuesdays\, 6:15pm-7:00 pm\nWhere: Rootead Studio 505 E.\, Suite 3\, Kalamazoo Ave. 49007\nWho: All adults 18+ and all abilities are welcome\nFacilitated by Rootead Staff
URL:https://rootead.org/event/cardio-kickboxing-feb-10-2026/
LOCATION:Rootead\, 505 E Kalamazoo Ave\, Suite 3\, Kalamazoo\, 49007
CATEGORIES:Community Healing,Home
ATTACH;FMTTYPE=image/png:https://rootead.org/wp-content/uploads/2025/12/KKHB-CK-Flyer.png
END:VEVENT
END:VCALENDAR