BEGIN:VCALENDAR
VERSION:2.0
PRODID:-//Rootead - ECPv6.15.20//NONSGML v1.0//EN
CALSCALE:GREGORIAN
METHOD:PUBLISH
X-WR-CALNAME:Rootead
X-ORIGINAL-URL:https://rootead.org
X-WR-CALDESC:Events for Rootead
REFRESH-INTERVAL;VALUE=DURATION:PT1H
X-Robots-Tag:noindex
X-PUBLISHED-TTL:PT1H
BEGIN:VTIMEZONE
TZID:UTC
BEGIN:STANDARD
TZOFFSETFROM:+0000
TZOFFSETTO:+0000
TZNAME:UTC
DTSTART:20250101T000000
END:STANDARD
END:VTIMEZONE
BEGIN:VEVENT
DTSTART;TZID=UTC:20260409T100000
DTEND;TZID=UTC:20260409T120000
DTSTAMP:20260423T130650
CREATED:20260225T220541Z
LAST-MODIFIED:20260319T152240Z
UID:10000754-1775728800-1775736000@rootead.org
SUMMARY:Baby Café Open Hours - Virtual
DESCRIPTION:Nourish your baby. Nourish yourself. Find your community at Rootead’s Baby Café\nThursdays weekly from 10 AM – 12 PM \nThe Baby Café is a walk-in parent support group with lactation professionals present to provide support for baby feeding. This free service is available in partnership with Bronson Health Foundation and W.K. Kellogg Foundation. \n  \nDate: Weekly on Thursdays \nTime: 10am-12pm \nLocation: \n1st and 3rd Thursdays at the Baby Cafe\, Rootead Enrichment Center\, 505 East Kalamazoo Ave. Suite 0\, Kalamazoo\, MI 49007 \n2nd and 4th Thursdays\, Virtually. Join using this link. \n  \n 
URL:https://rootead.org/event/baby-cafe-open-hours-apr-9-2026/
LOCATION:Rootead\, 505 E Kalamazoo Ave\, Suite 3\, Kalamazoo\, 49007
CATEGORIES:Birth Justice,Home
ATTACH;FMTTYPE=image/png:https://rootead.org/wp-content/uploads/2026/02/BabyCafeInfoCard.png
END:VEVENT
BEGIN:VEVENT
DTSTART;TZID=UTC:20260409T140000
DTEND;TZID=UTC:20260409T160000
DTSTAMP:20260423T130650
CREATED:20260324T181615Z
LAST-MODIFIED:20260324T181751Z
UID:10000998-1775743200-1775750400@rootead.org
SUMMARY:Pop Up Baby Café - El Concilio
DESCRIPTION:Join us for a pop up of our Baby Café at El Concilio!\nMarch 12th\, April 9th\, May 14th\, June 11th\, and July 9th from 2pm – 4pm \nThe Baby Café is a walk-in parent support group with lactation professionals present to provide support for baby feeding. This free service is available in partnership with Bronson Health Foundation and W.K. Kellogg Foundation. \n  \n 
URL:https://rootead.org/event/pop-up-baby-cafe-el-concilio/2026-04-09/
LOCATION:El Concilio\, 2501 Millcork St\, Kalamazoo\, Michigan\, 49001
CATEGORIES:Birth Justice,Home
ATTACH;FMTTYPE=image/png:https://rootead.org/wp-content/uploads/2026/03/Baby-Cafe-Pop-Up-El-Concilio-Spanish.png
END:VEVENT
BEGIN:VEVENT
DTSTART;TZID=UTC:20260409T193000
DTEND;TZID=UTC:20260409T210000
DTSTAMP:20260423T130650
CREATED:20260407T195309Z
LAST-MODIFIED:20260407T195309Z
UID:10001002-1775763000-1775768400@rootead.org
SUMMARY:Open Mic Night
DESCRIPTION:Join us for Open Mic Night!\nShare your voice or come enjoy the vibes. Featured Artist: Asia Sings! \n\nAsia Sings is an emerging R&B artist known for her soulful tone and emotional honesty. Blending contemporary R&B with heartfelt storytelling\, her music explores healing\, love\, growth\, and self-discovery. As both a mother and a creative\, she brings depth and authenticity to every performance—using her voice to connect.\n\nWhen: April 9th\, 7:30 PM – 9:00 PM \nWhere: Rootead Studio
URL:https://rootead.org/event/open-mic-night/
LOCATION:Rootead\, 505 E Kalamazoo Ave\, Suite 3\, Kalamazoo\, 49007
CATEGORIES:Community Healing,Home
ATTACH;FMTTYPE=image/png:https://rootead.org/wp-content/uploads/2026/04/Poetry-Night-Specific-2.png
END:VEVENT
END:VCALENDAR