BEGIN:VCALENDAR
VERSION:2.0
PRODID:-//Rootead - ECPv6.15.20//NONSGML v1.0//EN
CALSCALE:GREGORIAN
METHOD:PUBLISH
X-WR-CALNAME:Rootead
X-ORIGINAL-URL:https://rootead.org
X-WR-CALDESC:Events for Rootead
REFRESH-INTERVAL;VALUE=DURATION:PT1H
X-Robots-Tag:noindex
X-PUBLISHED-TTL:PT1H
BEGIN:VTIMEZONE
TZID:UTC
BEGIN:STANDARD
TZOFFSETFROM:+0000
TZOFFSETTO:+0000
TZNAME:UTC
DTSTART:20250101T000000
END:STANDARD
END:VTIMEZONE
BEGIN:VEVENT
DTSTART;VALUE=DATE:20260410
DTEND;VALUE=DATE:20260411
DTSTAMP:20260423T130655
CREATED:20240302T190713Z
LAST-MODIFIED:20260313T191721Z
UID:10000308-1775779200-1775865599@rootead.org
SUMMARY:Community-Based Doula Training Program - Application Deadline
DESCRIPTION:Today is the last day to submit an application for the next cohort of our Community-Based Doula Training Program!\n20-week training session beginning May 8\, 2026\nRootead’s community-based doula training program will run its next 20-week cohort from May 8 to August 1\, 2026. \n\nLEARN MORE ABOUT COMMUNITY-BASED DOULA TRAINING PROGRAM\n  \n  \n 
URL:https://rootead.org/event/community-based-doula-training-program-application-deadline/
CATEGORIES:Birth Justice,Home
ATTACH;FMTTYPE=image/jpeg:https://rootead.org/wp-content/uploads/2026/03/IMG_3239-1.jpeg
END:VEVENT
BEGIN:VEVENT
DTSTART;TZID=UTC:20260410T170000
DTEND;TZID=UTC:20260410T190000
DTSTAMP:20260423T130655
CREATED:20260324T181347Z
LAST-MODIFIED:20260324T181347Z
UID:10000994-1775840400-1775847600@rootead.org
SUMMARY:Pop Up Baby Café - Edison Neighborhood Association
DESCRIPTION:Join us for a pop up of our Baby Café at the Edison Neighborhood Association!\nMarch 13th\, April 10th\, May 8th\, June 12th\, and July 10th from 5pm – 7pm \nThe Baby Café is a walk-in parent support group with lactation professionals present to provide support for baby feeding. This free service is available in partnership with Bronson Health Foundation and W.K. Kellogg Foundation. \n\n  \n 
URL:https://rootead.org/event/baby-cafe-edison/2026-04-10/
LOCATION:Edison Neighborhood Association\, 816 Washington Ave\, Kalamazoo\, Michigan\, 49001
CATEGORIES:Birth Justice,Home
ATTACH;FMTTYPE=image/png:https://rootead.org/wp-content/uploads/2026/03/Edison-Baby-Cafe.png
END:VEVENT
END:VCALENDAR