BEGIN:VCALENDAR
VERSION:2.0
PRODID:-//Rootead - ECPv6.15.20//NONSGML v1.0//EN
CALSCALE:GREGORIAN
METHOD:PUBLISH
X-WR-CALNAME:Rootead
X-ORIGINAL-URL:https://rootead.org
X-WR-CALDESC:Events for Rootead
REFRESH-INTERVAL;VALUE=DURATION:PT1H
X-Robots-Tag:noindex
X-PUBLISHED-TTL:PT1H
BEGIN:VTIMEZONE
TZID:UTC
BEGIN:STANDARD
TZOFFSETFROM:+0000
TZOFFSETTO:+0000
TZNAME:UTC
DTSTART:20250101T000000
END:STANDARD
END:VTIMEZONE
BEGIN:VEVENT
DTSTART;TZID=UTC:20260508T170000
DTEND;TZID=UTC:20260508T190000
DTSTAMP:20260423T143557
CREATED:20260324T181347Z
LAST-MODIFIED:20260324T181347Z
UID:10000995-1778259600-1778266800@rootead.org
SUMMARY:Pop Up Baby Café - Edison Neighborhood Association
DESCRIPTION:Join us for a pop up of our Baby Café at the Edison Neighborhood Association!\nMarch 13th\, April 10th\, May 8th\, June 12th\, and July 10th from 5pm – 7pm \nThe Baby Café is a walk-in parent support group with lactation professionals present to provide support for baby feeding. This free service is available in partnership with Bronson Health Foundation and W.K. Kellogg Foundation. \n\n  \n 
URL:https://rootead.org/event/baby-cafe-edison/2026-05-08/
LOCATION:Edison Neighborhood Association\, 816 Washington Ave\, Kalamazoo\, Michigan\, 49001
CATEGORIES:Birth Justice,Home
ATTACH;FMTTYPE=image/png:https://rootead.org/wp-content/uploads/2026/03/Edison-Baby-Cafe.png
END:VEVENT
END:VCALENDAR