BEGIN:VCALENDAR
VERSION:2.0
PRODID:-//Rootead - ECPv6.15.20//NONSGML v1.0//EN
CALSCALE:GREGORIAN
METHOD:PUBLISH
X-ORIGINAL-URL:https://rootead.org
X-WR-CALDESC:Events for Rootead
REFRESH-INTERVAL;VALUE=DURATION:PT1H
X-Robots-Tag:noindex
X-PUBLISHED-TTL:PT1H
BEGIN:VTIMEZONE
TZID:UTC
BEGIN:STANDARD
TZOFFSETFROM:+0000
TZOFFSETTO:+0000
TZNAME:UTC
DTSTART:20250101T000000
END:STANDARD
END:VTIMEZONE
BEGIN:VEVENT
DTSTART;TZID=UTC:20260604T100000
DTEND;TZID=UTC:20260604T120000
DTSTAMP:20260423T173259
CREATED:20260319T150908Z
LAST-MODIFIED:20260324T180752Z
UID:10000980-1780567200-1780574400@rootead.org
SUMMARY:Baby Café Open Hours - In Person
DESCRIPTION:Nourish your baby. Nourish yourself. Find your community at Rootead’s Baby Café\nThursdays weekly from 10 AM – 12 PM \nThe Baby Café is a walk-in parent support group with lactation professionals present to provide support for baby feeding. This free service is available in partnership with Bronson Health Foundation and W.K. Kellogg Foundation. \n  \nDate: Weekly on Thursdays \nTime: 10am-12pm \nLocation: \n1st and 3rd Thursdays at the Baby Cafe\, Rootead Enrichment Center\, 505 East Kalamazoo Ave. Suite 0\, Kalamazoo\, MI 49007 \n2nd and 4th Thursdays\, Virtually. Join using this link. \n  \n 
URL:https://rootead.org/event/baby-cafe-open-hours-spring-2026-2/2026-06-04/
LOCATION:Rootead\, 505 E Kalamazoo Ave\, Suite 3\, Kalamazoo\, 49007
CATEGORIES:Birth Justice,Home
ATTACH;FMTTYPE=image/png:https://rootead.org/wp-content/uploads/2026/02/BabyCafeInfoCard.png
END:VEVENT
END:VCALENDAR