BEGIN:VCALENDAR
VERSION:2.0
PRODID:-//Rootead - ECPv6.15.20//NONSGML v1.0//EN
CALSCALE:GREGORIAN
METHOD:PUBLISH
X-WR-CALNAME:Rootead
X-ORIGINAL-URL:https://rootead.org
X-WR-CALDESC:Events for Rootead
REFRESH-INTERVAL;VALUE=DURATION:PT1H
X-Robots-Tag:noindex
X-PUBLISHED-TTL:PT1H
BEGIN:VTIMEZONE
TZID:UTC
BEGIN:STANDARD
TZOFFSETFROM:+0000
TZOFFSETTO:+0000
TZNAME:UTC
DTSTART:20250101T000000
END:STANDARD
END:VTIMEZONE
BEGIN:VEVENT
DTSTART;VALUE=DATE:20260706
DTEND;VALUE=DATE:20260711
DTSTAMP:20260423T185521
CREATED:20260212T161052Z
LAST-MODIFIED:20260212T161052Z
UID:10000737-1783296000-1783727999@rootead.org
SUMMARY:Youth Summer Camp - Session II
DESCRIPTION:Rootead Youth Summer Camp offers three exciting sessions to choose from\, running Monday through Friday\, from 9:00 AM to 4:00 PM\, at the Rootead Studio. \nDesigned for youth ages 5–12 (must have completed Kindergarten)\, campers will learn the fundamentals of West African Drum & Dance\, create African-inspired crafts\, and explore the strategy game Mancala. \nEach session concludes with a family showcase where campers share what they’ve learned! \n☀️ What to Know ☀️\n• Campers must bring their own lunch daily. Lunch will not be provided.\n• Snacks will be available throughout the day.\n• Please pack an extra pair of clothes in your camper’s bag in case of clothing emergencies or scheduled water days (families will be notified ahead of time for any water activities). \n  \nThere will be three sessions this year\, and the dates are: \n\nSession 1: Monday\, June 29 – Friday\, July 3\, 9:00am – 4:00pm\nSession 2: Monday\, July 6 – Friday\, July 10\, 9:00am – 4:00pm\nSession 3: Monday\, July 13 – Friday\, July 17\, 9:00am – 4:00pm\n\nThe cost of the summer camp is $200/week per child. Scholarships are available. \n  \nREGISTER HERE\n  \n 
URL:https://rootead.org/event/2026-youth-summer-camp-session-2/
LOCATION:Rootead\, 505 E Kalamazoo Ave\, Suite 3\, Kalamazoo\, 49007
CATEGORIES:Home,Youth Enrichment
ATTACH;FMTTYPE=image/png:https://rootead.org/wp-content/uploads/2025/03/1-1.png
END:VEVENT
BEGIN:VEVENT
DTSTART;TZID=UTC:20260708T100000
DTEND;TZID=UTC:20260708T113000
DTSTAMP:20260423T185521
CREATED:20260319T152109Z
LAST-MODIFIED:20260324T180154Z
UID:10000839-1783504800-1783510200@rootead.org
SUMMARY:Village Playdate
DESCRIPTION:Are you and your little(s) looking for a fun place to learn and play that focuses on inclusivity and community? Come join the village! \nVillage Playdates are weekly drop-ins with story time and activities to participate in at no cost. \n  \nVillage Playdates will be every Wednesday from 10 AM – 11:30 AM at the Kalamazoo Baby Café at Rootead\, 505 E Kalamazoo Ave\, Suite o. Kalamazoo MI 49007. \n  \n 
URL:https://rootead.org/event/village-playdate-may-27-2026/2026-07-08/
LOCATION:Rootead\, 505 E Kalamazoo Ave\, Suite 3\, Kalamazoo\, 49007
CATEGORIES:Birth Justice,Home
ATTACH;FMTTYPE=image/png:https://rootead.org/wp-content/uploads/2026/02/Village-Playdates-Updated-Flyer.png
END:VEVENT
BEGIN:VEVENT
DTSTART;TZID=UTC:20260708T110000
DTEND;TZID=UTC:20260708T130000
DTSTAMP:20260423T185521
CREATED:20260324T172751Z
LAST-MODIFIED:20260324T180023Z
UID:10000778-1783508400-1783515600@rootead.org
SUMMARY:Diaper Giveaway @ Baby Café
DESCRIPTION:Diaper Giveaway Every Wednesday!\nDiaper giveaway will be every Wednesday from 11 AM -1 PM.  Come to the Village Playdates and also get free diapers! \nNewborn – 4t/ 5t Pull-ups ~ Limited supply\, first come first serve! \n 
URL:https://rootead.org/event/diaper-giveaway-jun-24-2026/2026-07-08/
LOCATION:Rootead\, 505 E Kalamazoo Ave\, Suite 3\, Kalamazoo\, 49007
CATEGORIES:Birth Justice,Home
ATTACH;FMTTYPE=image/png:https://rootead.org/wp-content/uploads/2024/09/Diaper-Giveaway.png
END:VEVENT
END:VCALENDAR