BEGIN:VCALENDAR
VERSION:2.0
PRODID:-//Rootead - ECPv6.15.20//NONSGML v1.0//EN
CALSCALE:GREGORIAN
METHOD:PUBLISH
X-ORIGINAL-URL:https://rootead.org
X-WR-CALDESC:Events for Rootead
REFRESH-INTERVAL;VALUE=DURATION:PT1H
X-Robots-Tag:noindex
X-PUBLISHED-TTL:PT1H
BEGIN:VTIMEZONE
TZID:UTC
BEGIN:STANDARD
TZOFFSETFROM:+0000
TZOFFSETTO:+0000
TZNAME:UTC
DTSTART:20250101T000000
END:STANDARD
END:VTIMEZONE
BEGIN:VEVENT
DTSTART;VALUE=DATE:20260824
DTEND;VALUE=DATE:20260908
DTSTAMP:20260423T202334
CREATED:20260421T135426Z
LAST-MODIFIED:20260421T135426Z
UID:10001005-1787529600-1788825599@rootead.org
SUMMARY:CLOSED for Summer Rest 2026
DESCRIPTION:Rootead Enrichment Center will be closed for Summer Rest from Monday\, August 24th – Monday\, September 7th\, 2026. We will resume regular hours on Tuesday\, September 8th. \nProgramming will be temporarily paused during this period. \n 
URL:https://rootead.org/event/closed-for-summer-rest-2026/
LOCATION:Rootead\, 505 E Kalamazoo Ave\, Suite 3\, Kalamazoo\, 49007
CATEGORIES:Home
END:VEVENT
BEGIN:VEVENT
DTSTART;TZID=UTC:20260902T100000
DTEND;TZID=UTC:20260902T113000
DTSTAMP:20260423T202334
CREATED:20260319T152109Z
LAST-MODIFIED:20260324T180154Z
UID:10000847-1788343200-1788348600@rootead.org
SUMMARY:Village Playdate
DESCRIPTION:Are you and your little(s) looking for a fun place to learn and play that focuses on inclusivity and community? Come join the village! \nVillage Playdates are weekly drop-ins with story time and activities to participate in at no cost. \n  \nVillage Playdates will be every Wednesday from 10 AM – 11:30 AM at the Kalamazoo Baby Café at Rootead\, 505 E Kalamazoo Ave\, Suite o. Kalamazoo MI 49007. \n  \n 
URL:https://rootead.org/event/village-playdate-may-27-2026/2026-09-02/
LOCATION:Rootead\, 505 E Kalamazoo Ave\, Suite 3\, Kalamazoo\, 49007
CATEGORIES:Birth Justice,Home
ATTACH;FMTTYPE=image/png:https://rootead.org/wp-content/uploads/2026/02/Village-Playdates-Updated-Flyer.png
END:VEVENT
BEGIN:VEVENT
DTSTART;TZID=UTC:20260902T110000
DTEND;TZID=UTC:20260902T130000
DTSTAMP:20260423T202334
CREATED:20260324T172751Z
LAST-MODIFIED:20260324T180023Z
UID:10000786-1788346800-1788354000@rootead.org
SUMMARY:Diaper Giveaway @ Baby Café
DESCRIPTION:Diaper Giveaway Every Wednesday!\nDiaper giveaway will be every Wednesday from 11 AM -1 PM.  Come to the Village Playdates and also get free diapers! \nNewborn – 4t/ 5t Pull-ups ~ Limited supply\, first come first serve! \n 
URL:https://rootead.org/event/diaper-giveaway-jun-24-2026/2026-09-02/
LOCATION:Rootead\, 505 E Kalamazoo Ave\, Suite 3\, Kalamazoo\, 49007
CATEGORIES:Birth Justice,Home
ATTACH;FMTTYPE=image/png:https://rootead.org/wp-content/uploads/2024/09/Diaper-Giveaway.png
END:VEVENT
END:VCALENDAR