BEGIN:VCALENDAR
VERSION:2.0
PRODID:-//Rootead - ECPv6.15.20//NONSGML v1.0//EN
CALSCALE:GREGORIAN
METHOD:PUBLISH
X-WR-CALNAME:Rootead
X-ORIGINAL-URL:https://rootead.org
X-WR-CALDESC:Events for Rootead
REFRESH-INTERVAL;VALUE=DURATION:PT1H
X-Robots-Tag:noindex
X-PUBLISHED-TTL:PT1H
BEGIN:VTIMEZONE
TZID:UTC
BEGIN:STANDARD
TZOFFSETFROM:+0000
TZOFFSETTO:+0000
TZNAME:UTC
DTSTART:20250101T000000
END:STANDARD
END:VTIMEZONE
BEGIN:VEVENT
DTSTART;TZID=UTC:20261107T190000
DTEND;TZID=UTC:20261107T230000
DTSTAMP:20260424T005606
CREATED:20251219T205954Z
LAST-MODIFIED:20251219T210020Z
UID:10000717-1794078000-1794092400@rootead.org
SUMMARY:African Masquerade Fundraiser Gala
DESCRIPTION:SAVE THE DATE FOR OUR ANNUAL AFRICAN MASQUERADE FUNDRAISER GALA!\n  \nWhen: Saturday\, November 7\, 2026 from 7-11 PM \nWhere: The Epic Center \n  \n\nMore details to come!
URL:https://rootead.org/event/african-masquerade-fundraiser-gala-2026/
LOCATION:The Epic Center\, 359 S Kalamazoo Mall\, Kalamazoo\, MI\, 49007\, United States
CATEGORIES:Community Healing,Home
END:VEVENT
END:VCALENDAR