BEGIN:VCALENDAR
VERSION:2.0
PRODID:-//Rootead - ECPv6.15.20//NONSGML v1.0//EN
CALSCALE:GREGORIAN
METHOD:PUBLISH
X-ORIGINAL-URL:https://rootead.org
X-WR-CALDESC:Events for Rootead
REFRESH-INTERVAL;VALUE=DURATION:PT1H
X-Robots-Tag:noindex
X-PUBLISHED-TTL:PT1H
BEGIN:VTIMEZONE
TZID:UTC
BEGIN:STANDARD
TZOFFSETFROM:+0000
TZOFFSETTO:+0000
TZNAME:UTC
DTSTART:20250101T000000
END:STANDARD
END:VTIMEZONE
BEGIN:VEVENT
DTSTART;VALUE=DATE:20261110
DTEND;VALUE=DATE:20261111
DTSTAMP:20260424T005411
CREATED:20260421T142312Z
LAST-MODIFIED:20260421T142407Z
UID:10001011-1794268800-1794355199@rootead.org
SUMMARY:CLOSED: Following Masquerade Event
DESCRIPTION:Rootead Enrichment Center will be closed on Tuesday\, November 10\, 2026 following the Annual Masquerade. We will resume regular hours on Wednesday\, November 11th. \nProgramming will be temporarily paused during this period. \n 
URL:https://rootead.org/event/closed-post-event/
LOCATION:Rootead\, 505 E Kalamazoo Ave\, Suite 3\, Kalamazoo\, 49007
CATEGORIES:Home
END:VEVENT
END:VCALENDAR