BEGIN:VCALENDAR
VERSION:2.0
PRODID:-//Rootead - ECPv6.15.20//NONSGML v1.0//EN
CALSCALE:GREGORIAN
METHOD:PUBLISH
X-WR-CALNAME:Rootead
X-ORIGINAL-URL:https://rootead.org
X-WR-CALDESC:Events for Rootead
REFRESH-INTERVAL;VALUE=DURATION:PT1H
X-Robots-Tag:noindex
X-PUBLISHED-TTL:PT1H
BEGIN:VTIMEZONE
TZID:UTC
BEGIN:STANDARD
TZOFFSETFROM:+0000
TZOFFSETTO:+0000
TZNAME:UTC
DTSTART:20250101T000000
END:STANDARD
END:VTIMEZONE
BEGIN:VEVENT
DTSTART;VALUE=DATE:20261221
DTEND;VALUE=DATE:20270105
DTSTAMP:20260424T022807
CREATED:20260421T141935Z
LAST-MODIFIED:20260421T141935Z
UID:10001009-1797811200-1799107199@rootead.org
SUMMARY:CLOSED for Winter Break 2026
DESCRIPTION:Rootead Enrichment Center will be closed for Winter Break from Monday\, December 21st\, 2026 – Monday\, January 4th\, 2027. We will resume regular hours on Tuesday\, January 5th. \nProgramming will be temporarily paused during this period. \n 
URL:https://rootead.org/event/closed-for-winter-break-2026/
LOCATION:Rootead\, 505 E Kalamazoo Ave\, Suite 3\, Kalamazoo\, 49007
CATEGORIES:Home
END:VEVENT
END:VCALENDAR