BEGIN:VCALENDAR
VERSION:2.0
PRODID:-//Rootead - ECPv6.15.20//NONSGML v1.0//EN
CALSCALE:GREGORIAN
METHOD:PUBLISH
X-ORIGINAL-URL:https://rootead.org
X-WR-CALDESC:Events for Rootead
REFRESH-INTERVAL;VALUE=DURATION:PT1H
X-Robots-Tag:noindex
X-PUBLISHED-TTL:PT1H
BEGIN:VTIMEZONE
TZID:UTC
BEGIN:STANDARD
TZOFFSETFROM:+0000
TZOFFSETTO:+0000
TZNAME:UTC
DTSTART:20260101T000000
END:STANDARD
END:VTIMEZONE
BEGIN:VEVENT
DTSTART;VALUE=DATE:20270316
DTEND;VALUE=DATE:20270317
DTSTAMP:20260424T070131
CREATED:20260421T141718Z
LAST-MODIFIED:20260421T141718Z
UID:10001008-1805155200-1805241599@rootead.org
SUMMARY:RYDDE Showcase 2027
DESCRIPTION:Join us for the 2027 RYDDE Showcase on Tuesday\, March 16th\, 2027 \nStay tuned for more details
URL:https://rootead.org/event/rydde-showcase-2027/
CATEGORIES:Home,Youth Enrichment
END:VEVENT
END:VCALENDAR