BEGIN:VCALENDAR
VERSION:2.0
PRODID:-//Rootead - ECPv6.15.20//NONSGML v1.0//EN
CALSCALE:GREGORIAN
METHOD:PUBLISH
X-ORIGINAL-URL:https://rootead.org
X-WR-CALDESC:Events for Rootead
REFRESH-INTERVAL;VALUE=DURATION:PT1H
X-Robots-Tag:noindex
X-PUBLISHED-TTL:PT1H
BEGIN:VTIMEZONE
TZID:UTC
BEGIN:STANDARD
TZOFFSETFROM:+0000
TZOFFSETTO:+0000
TZNAME:UTC
DTSTART:20260101T000000
END:STANDARD
END:VTIMEZONE
BEGIN:VEVENT
DTSTART;VALUE=DATE:20270622
DTEND;VALUE=DATE:20270623
DTSTAMP:20260424T114719
CREATED:20260421T141213Z
LAST-MODIFIED:20260421T141817Z
UID:10001006-1813622400-1813708799@rootead.org
SUMMARY:CLOSED for Juneteenth Holiday 2027
DESCRIPTION:Rootead Enrichment Center will be closed in observance of the Juneteenth holiday on Tuesday\, June 22\, 2027. We will resume regular hours on Wednesday\, June 23rd. \nProgramming will be temporarily paused during this period. \n 
URL:https://rootead.org/event/closed-for-juneteenth-holiday-2027/
LOCATION:Rootead\, 505 E Kalamazoo Ave\, Suite 3\, Kalamazoo\, 49007
CATEGORIES:Home
END:VEVENT
END:VCALENDAR