BEGIN:VCALENDAR
VERSION:2.0
PRODID:-//Rootead - ECPv6.15.20//NONSGML v1.0//EN
CALSCALE:GREGORIAN
METHOD:PUBLISH
X-WR-CALNAME:Rootead
X-ORIGINAL-URL:https://rootead.org
X-WR-CALDESC:Events for Rootead
REFRESH-INTERVAL;VALUE=DURATION:PT1H
X-Robots-Tag:noindex
X-PUBLISHED-TTL:PT1H
BEGIN:VTIMEZONE
TZID:UTC
BEGIN:STANDARD
TZOFFSETFROM:+0000
TZOFFSETTO:+0000
TZNAME:UTC
DTSTART:20250101T000000
END:STANDARD
END:VTIMEZONE
BEGIN:VEVENT
DTSTART;TZID=UTC:20260301T143000
DTEND;TZID=UTC:20260301T180000
DTSTAMP:20260424T001615
CREATED:20260203T173430Z
LAST-MODIFIED:20260224T175929Z
UID:10000719-1772375400-1772388000@rootead.org
SUMMARY:Rootead in Rhythm: RYDDE Showcase
DESCRIPTION:Join us for Rootead in Rhythm: RYDDE Showcase on Sunday\, March 1st\, 2026 \nRootead Enrichment Center announces the upcoming Youth Showcase and invites the community to save the date for an evening centered on youth performance\, culture\, and creative expression. \nThe Youth Showcase will feature performances by the Rootead Youth Drum & Dance Ensemble (RYDDE)\, highlighting African diasporic drum and dance traditions that youth have been training in throughout the year. The event serves as a celebratory platform for youth to share their growth\, discipline\, and artistry. \nThis showcase is an important moment for our youth to be seen and supported by the community\, we look forward to gathering together to celebrate their dedication and creativity. \n\n\n\nShowcase Details\n\n\n\n\nWhen: Sunday\, March 1\, 2026. Doors open @ 2:30PM\, performance is at 3PM. \nWhere: Fetzer Center\, 2251 Business Ct.\, Kalamazoo\, MI 49008 \nTickets: $15 \n\n\nPURCHASE TICKETS TODAY
URL:https://rootead.org/event/rydde-showcase-2026/
CATEGORIES:Home,Youth Enrichment
ATTACH;FMTTYPE=image/png:https://rootead.org/wp-content/uploads/2025/11/IMG_0193.png
END:VEVENT
BEGIN:VEVENT
DTSTART;VALUE=DATE:20260629
DTEND;VALUE=DATE:20260704
DTSTAMP:20260424T001615
CREATED:20260212T160910Z
LAST-MODIFIED:20260212T161116Z
UID:10000736-1782691200-1783123199@rootead.org
SUMMARY:Youth Summer Camp - Session I
DESCRIPTION:Rootead Youth Summer Camp offers three exciting sessions to choose from\, running Monday through Friday\, from 9:00 AM to 4:00 PM\, at the Rootead Studio. \nDesigned for youth ages 5–12 (must have completed Kindergarten)\, campers will learn the fundamentals of West African Drum & Dance\, create African-inspired crafts\, and explore the strategy game Mancala. \nEach session concludes with a family showcase where campers share what they’ve learned! \n☀️ What to Know ☀️\n• Campers must bring their own lunch daily. Lunch will not be provided.\n• Snacks will be available throughout the day.\n• Please pack an extra pair of clothes in your camper’s bag in case of clothing emergencies or scheduled water days (families will be notified ahead of time for any water activities). \n  \nThere will be three sessions this year\, and the dates are: \n\nSession 1: Monday\, June 29 – Friday\, July 3\, 9:00am – 4:00pm\nSession 2: Monday\, July 6 – Friday\, July 10\, 9:00am – 4:00pm\nSession 3: Monday\, July 13 – Friday\, July 17\, 9:00am – 4:00pm\n\nThe cost of the summer camp is $200/week per child. Scholarships are available. \n  \nREGISTER HERE\n  \n 
URL:https://rootead.org/event/2026-youth-summer-camp-session-1/
LOCATION:Rootead\, 505 E Kalamazoo Ave\, Suite 3\, Kalamazoo\, 49007
CATEGORIES:Home,Youth Enrichment
ATTACH;FMTTYPE=image/png:https://rootead.org/wp-content/uploads/2025/03/1-1.png
END:VEVENT
BEGIN:VEVENT
DTSTART;VALUE=DATE:20260706
DTEND;VALUE=DATE:20260711
DTSTAMP:20260424T001615
CREATED:20260212T161052Z
LAST-MODIFIED:20260212T161052Z
UID:10000737-1783296000-1783727999@rootead.org
SUMMARY:Youth Summer Camp - Session II
DESCRIPTION:Rootead Youth Summer Camp offers three exciting sessions to choose from\, running Monday through Friday\, from 9:00 AM to 4:00 PM\, at the Rootead Studio. \nDesigned for youth ages 5–12 (must have completed Kindergarten)\, campers will learn the fundamentals of West African Drum & Dance\, create African-inspired crafts\, and explore the strategy game Mancala. \nEach session concludes with a family showcase where campers share what they’ve learned! \n☀️ What to Know ☀️\n• Campers must bring their own lunch daily. Lunch will not be provided.\n• Snacks will be available throughout the day.\n• Please pack an extra pair of clothes in your camper’s bag in case of clothing emergencies or scheduled water days (families will be notified ahead of time for any water activities). \n  \nThere will be three sessions this year\, and the dates are: \n\nSession 1: Monday\, June 29 – Friday\, July 3\, 9:00am – 4:00pm\nSession 2: Monday\, July 6 – Friday\, July 10\, 9:00am – 4:00pm\nSession 3: Monday\, July 13 – Friday\, July 17\, 9:00am – 4:00pm\n\nThe cost of the summer camp is $200/week per child. Scholarships are available. \n  \nREGISTER HERE\n  \n 
URL:https://rootead.org/event/2026-youth-summer-camp-session-2/
LOCATION:Rootead\, 505 E Kalamazoo Ave\, Suite 3\, Kalamazoo\, 49007
CATEGORIES:Home,Youth Enrichment
ATTACH;FMTTYPE=image/png:https://rootead.org/wp-content/uploads/2025/03/1-1.png
END:VEVENT
BEGIN:VEVENT
DTSTART;VALUE=DATE:20260713
DTEND;VALUE=DATE:20260718
DTSTAMP:20260424T001615
CREATED:20260212T161202Z
LAST-MODIFIED:20260212T161202Z
UID:10000738-1783900800-1784332799@rootead.org
SUMMARY:Youth Summer Camp - Session III
DESCRIPTION:Rootead Youth Summer Camp offers three exciting sessions to choose from\, running Monday through Friday\, from 9:00 AM to 4:00 PM\, at the Rootead Studio. \nDesigned for youth ages 5–12 (must have completed Kindergarten)\, campers will learn the fundamentals of West African Drum & Dance\, create African-inspired crafts\, and explore the strategy game Mancala. \nEach session concludes with a family showcase where campers share what they’ve learned! \n☀️ What to Know ☀️\n• Campers must bring their own lunch daily. Lunch will not be provided.\n• Snacks will be available throughout the day.\n• Please pack an extra pair of clothes in your camper’s bag in case of clothing emergencies or scheduled water days (families will be notified ahead of time for any water activities). \n  \nThere will be three sessions this year\, and the dates are: \n\nSession 1: Monday\, June 29 – Friday\, July 3\, 9:00am – 4:00pm\nSession 2: Monday\, July 6 – Friday\, July 10\, 9:00am – 4:00pm\nSession 3: Monday\, July 13 – Friday\, July 17\, 9:00am – 4:00pm\n\nThe cost of the summer camp is $200/week per child. Scholarships are available. \n  \nREGISTER HERE\n  \n 
URL:https://rootead.org/event/2026-youth-summer-camp-session-3/
LOCATION:Rootead\, 505 E Kalamazoo Ave\, Suite 3\, Kalamazoo\, 49007
CATEGORIES:Home,Youth Enrichment
ATTACH;FMTTYPE=image/png:https://rootead.org/wp-content/uploads/2025/03/1-1.png
END:VEVENT
END:VCALENDAR